BEGIN:VCALENDAR
VERSION:2.0
PRODID:-//Harvard Hillel - ECPv6.15.20//NONSGML v1.0//EN
CALSCALE:GREGORIAN
METHOD:PUBLISH
X-ORIGINAL-URL:https://hillel.harvard.edu
X-WR-CALDESC:Events for Harvard Hillel
REFRESH-INTERVAL;VALUE=DURATION:PT1H
X-Robots-Tag:noindex
X-PUBLISHED-TTL:PT1H
BEGIN:VTIMEZONE
TZID:America/New_York
BEGIN:DAYLIGHT
TZOFFSETFROM:-0500
TZOFFSETTO:-0400
TZNAME:EDT
DTSTART:20250309T070000
END:DAYLIGHT
BEGIN:STANDARD
TZOFFSETFROM:-0400
TZOFFSETTO:-0500
TZNAME:EST
DTSTART:20251102T060000
END:STANDARD
BEGIN:DAYLIGHT
TZOFFSETFROM:-0500
TZOFFSETTO:-0400
TZNAME:EDT
DTSTART:20260308T070000
END:DAYLIGHT
BEGIN:STANDARD
TZOFFSETFROM:-0400
TZOFFSETTO:-0500
TZNAME:EST
DTSTART:20261101T060000
END:STANDARD
BEGIN:DAYLIGHT
TZOFFSETFROM:-0500
TZOFFSETTO:-0400
TZNAME:EDT
DTSTART:20270314T070000
END:DAYLIGHT
BEGIN:STANDARD
TZOFFSETFROM:-0400
TZOFFSETTO:-0500
TZNAME:EST
DTSTART:20271107T060000
END:STANDARD
END:VTIMEZONE
BEGIN:VEVENT
DTSTART;TZID=America/New_York:20260503T110000
DTEND;TZID=America/New_York:20260503T130000
DTSTAMP:20260421T172346
CREATED:20260126T220825Z
LAST-MODIFIED:20260313T150002Z
UID:10011332-1777806000-1777813200@hillel.harvard.edu
SUMMARY:Bagel Brunch
DESCRIPTION:Start your week with Bagel Brunch at Harvard Hillel. We’ve got fresh bagels\, schmear\, and lox- plus a space to catch up with friends or meet new ones. Everyone’s welcome to stop by for good food and good company. Hope to see you there!
URL:https://hillel.harvard.edu/event/bagel-brunch/2026-05-03/
LOCATION:Harvard Hillel\, MA
CATEGORIES:Meals,Programs
ATTACH;FMTTYPE=image/jpeg:https://hillel.harvard.edu/wp-content/uploads/2025/10/Bagel-Brunch.jpeg
ORGANIZER;CN="Elazar Fine":MAILTO:elazar@hillel.harvard.edu
END:VEVENT
BEGIN:VEVENT
DTSTART;TZID=America/New_York:20260503T113000
DTEND;TZID=America/New_York:20260503T140000
DTSTAMP:20260421T172346
CREATED:20260304T180313Z
LAST-MODIFIED:20260306T193423Z
UID:10015366-1777807800-1777816800@hillel.harvard.edu
SUMMARY:Lunch
DESCRIPTION:Join us for lunch Sunday through Friday at Harvard Hillel! Undergraduate students on the meal plan can swipe in; graduate students and community members are welcome to purchase meals. It’s a great way to grab a bite\, catch up with friends\, and take a break from your day in a welcoming space. \n  \nCheck out this week’s menu! \n 
URL:https://hillel.harvard.edu/event/lunch/
CATEGORIES:Meals
ATTACH;FMTTYPE=image/jpeg:https://hillel.harvard.edu/wp-content/uploads/2025/10/hh-dinner.jpg
END:VEVENT
BEGIN:VEVENT
DTSTART;TZID=America/New_York:20260503T170000
DTEND;TZID=America/New_York:20260503T193000
DTSTAMP:20260421T172346
CREATED:20260304T180230Z
LAST-MODIFIED:20260401T141244Z
UID:10016922-1777827600-1777836600@hillel.harvard.edu
SUMMARY:Dinner
DESCRIPTION:Join us for dinner Saturday through Thursday at Harvard Hillel! Undergraduate students on the meal plan can swipe in; graduate students and community members are welcome to purchase meals. On Wednesdays\, graduate students can enjoy Cheap Eats—a full dinner for just $5. Come for the food\, stay for the community. \n  \nCheck out this week’s menu! \n 
URL:https://hillel.harvard.edu/event/dinner/2026-05-03/
LOCATION:Harvard Hillel\, MA
CATEGORIES:Meals
ATTACH;FMTTYPE=image/jpeg:https://hillel.harvard.edu/wp-content/uploads/2025/10/hillel_faculty_dinner_112.jpg
END:VEVENT
BEGIN:VEVENT
DTSTART;TZID=America/New_York:20260504T113000
DTEND;TZID=America/New_York:20260504T140000
DTSTAMP:20260421T172346
CREATED:20260304T180313Z
LAST-MODIFIED:20260306T193423Z
UID:10016634-1777894200-1777903200@hillel.harvard.edu
SUMMARY:Lunch
DESCRIPTION:Join us for lunch Sunday through Friday at Harvard Hillel! Undergraduate students on the meal plan can swipe in; graduate students and community members are welcome to purchase meals. It’s a great way to grab a bite\, catch up with friends\, and take a break from your day in a welcoming space. \n  \nCheck out this week’s menu! \n 
URL:https://hillel.harvard.edu/event/lunch/
CATEGORIES:Meals
ATTACH;FMTTYPE=image/jpeg:https://hillel.harvard.edu/wp-content/uploads/2025/10/hh-dinner.jpg
END:VEVENT
BEGIN:VEVENT
DTSTART;TZID=America/New_York:20260504T120000
DTEND;TZID=America/New_York:20260504T130000
DTSTAMP:20260421T172346
CREATED:20260126T220523Z
LAST-MODIFIED:20260306T193624Z
UID:10010521-1777896000-1777899600@hillel.harvard.edu
SUMMARY:Shulchan Ivrit\, Hebrew Table
DESCRIPTION:A welcoming\, low pressure space for practicing spoken Hebrew at all levels\, grounded in conversation\, shared meals\, and meaningful community building.
URL:https://hillel.harvard.edu/event/shulchan-ivrit-lunch-session/2026-05-04/
LOCATION:Harvard Hillel\, MA
CATEGORIES:Meals,Programs
ATTACH;FMTTYPE=image/png:https://hillel.harvard.edu/wp-content/uploads/2026/02/Shulhan-Ivrit-FINAL-1080-x-1080-px.png
ORGANIZER;CN="Mahran Yosef":MAILTO:mahran@hillel.harvard.edu
END:VEVENT
BEGIN:VEVENT
DTSTART;TZID=America/New_York:20260504T170000
DTEND;TZID=America/New_York:20260504T193000
DTSTAMP:20260421T172346
CREATED:20260304T180230Z
LAST-MODIFIED:20260401T141244Z
UID:10016923-1777914000-1777923000@hillel.harvard.edu
SUMMARY:Dinner
DESCRIPTION:Join us for dinner Saturday through Thursday at Harvard Hillel! Undergraduate students on the meal plan can swipe in; graduate students and community members are welcome to purchase meals. On Wednesdays\, graduate students can enjoy Cheap Eats—a full dinner for just $5. Come for the food\, stay for the community. \n  \nCheck out this week’s menu! \n 
URL:https://hillel.harvard.edu/event/dinner/2026-05-04/
LOCATION:Harvard Hillel\, MA
CATEGORIES:Meals
ATTACH;FMTTYPE=image/jpeg:https://hillel.harvard.edu/wp-content/uploads/2025/10/hillel_faculty_dinner_112.jpg
END:VEVENT
BEGIN:VEVENT
DTSTART;TZID=America/New_York:20260505T113000
DTEND;TZID=America/New_York:20260505T140000
DTSTAMP:20260421T172346
CREATED:20260304T180313Z
LAST-MODIFIED:20260306T193423Z
UID:10015367-1777980600-1777989600@hillel.harvard.edu
SUMMARY:Lunch
DESCRIPTION:Join us for lunch Sunday through Friday at Harvard Hillel! Undergraduate students on the meal plan can swipe in; graduate students and community members are welcome to purchase meals. It’s a great way to grab a bite\, catch up with friends\, and take a break from your day in a welcoming space. \n  \nCheck out this week’s menu! \n 
URL:https://hillel.harvard.edu/event/lunch/
CATEGORIES:Meals
ATTACH;FMTTYPE=image/jpeg:https://hillel.harvard.edu/wp-content/uploads/2025/10/hh-dinner.jpg
END:VEVENT
BEGIN:VEVENT
DTSTART;TZID=America/New_York:20260505T170000
DTEND;TZID=America/New_York:20260505T193000
DTSTAMP:20260421T172346
CREATED:20260304T180230Z
LAST-MODIFIED:20260401T141244Z
UID:10016924-1778000400-1778009400@hillel.harvard.edu
SUMMARY:Dinner
DESCRIPTION:Join us for dinner Saturday through Thursday at Harvard Hillel! Undergraduate students on the meal plan can swipe in; graduate students and community members are welcome to purchase meals. On Wednesdays\, graduate students can enjoy Cheap Eats—a full dinner for just $5. Come for the food\, stay for the community. \n  \nCheck out this week’s menu! \n 
URL:https://hillel.harvard.edu/event/dinner/2026-05-05/
LOCATION:Harvard Hillel\, MA
CATEGORIES:Meals
ATTACH;FMTTYPE=image/jpeg:https://hillel.harvard.edu/wp-content/uploads/2025/10/hillel_faculty_dinner_112.jpg
END:VEVENT
BEGIN:VEVENT
DTSTART;TZID=America/New_York:20260506T113000
DTEND;TZID=America/New_York:20260506T140000
DTSTAMP:20260421T172346
CREATED:20260304T180313Z
LAST-MODIFIED:20260306T193423Z
UID:10015368-1778067000-1778076000@hillel.harvard.edu
SUMMARY:Lunch
DESCRIPTION:Join us for lunch Sunday through Friday at Harvard Hillel! Undergraduate students on the meal plan can swipe in; graduate students and community members are welcome to purchase meals. It’s a great way to grab a bite\, catch up with friends\, and take a break from your day in a welcoming space. \n  \nCheck out this week’s menu! \n 
URL:https://hillel.harvard.edu/event/lunch/
CATEGORIES:Meals
ATTACH;FMTTYPE=image/jpeg:https://hillel.harvard.edu/wp-content/uploads/2025/10/hh-dinner.jpg
END:VEVENT
BEGIN:VEVENT
DTSTART;TZID=America/New_York:20260506T170000
DTEND;TZID=America/New_York:20260506T193000
DTSTAMP:20260421T172346
CREATED:20260304T180230Z
LAST-MODIFIED:20260401T141244Z
UID:10016925-1778086800-1778095800@hillel.harvard.edu
SUMMARY:Dinner
DESCRIPTION:Join us for dinner Saturday through Thursday at Harvard Hillel! Undergraduate students on the meal plan can swipe in; graduate students and community members are welcome to purchase meals. On Wednesdays\, graduate students can enjoy Cheap Eats—a full dinner for just $5. Come for the food\, stay for the community. \n  \nCheck out this week’s menu! \n 
URL:https://hillel.harvard.edu/event/dinner/2026-05-06/
LOCATION:Harvard Hillel\, MA
CATEGORIES:Meals
ATTACH;FMTTYPE=image/jpeg:https://hillel.harvard.edu/wp-content/uploads/2025/10/hillel_faculty_dinner_112.jpg
END:VEVENT
BEGIN:VEVENT
DTSTART;TZID=America/New_York:20260506T180000
DTEND;TZID=America/New_York:20260506T193000
DTSTAMP:20260421T172346
CREATED:20260211T154200Z
LAST-MODIFIED:20260417T144220Z
UID:10013258-1778090400-1778095800@hillel.harvard.edu
SUMMARY:Shulchan Aravit\, Arabic Table
DESCRIPTION:An inclusive conversational environment open to all proficiency levels\, offering opportunities to practice spoken Arabic through dialogue\, food\, and social connection.
URL:https://hillel.harvard.edu/event/shulchan-aravit-arabic-table/2026-05-06/
LOCATION:Harvard Hillel\, MA
CATEGORIES:Meals,Programs
ATTACH;FMTTYPE=image/png:https://hillel.harvard.edu/wp-content/uploads/2026/02/Arabic-Table.png
ORGANIZER;CN="Mahran Yosef":MAILTO:mahran@hillel.harvard.edu
END:VEVENT
BEGIN:VEVENT
DTSTART;TZID=America/New_York:20260507T113000
DTEND;TZID=America/New_York:20260507T140000
DTSTAMP:20260421T172346
CREATED:20260304T180313Z
LAST-MODIFIED:20260306T193423Z
UID:10015369-1778153400-1778162400@hillel.harvard.edu
SUMMARY:Lunch
DESCRIPTION:Join us for lunch Sunday through Friday at Harvard Hillel! Undergraduate students on the meal plan can swipe in; graduate students and community members are welcome to purchase meals. It’s a great way to grab a bite\, catch up with friends\, and take a break from your day in a welcoming space. \n  \nCheck out this week’s menu! \n 
URL:https://hillel.harvard.edu/event/lunch/
CATEGORIES:Meals
ATTACH;FMTTYPE=image/jpeg:https://hillel.harvard.edu/wp-content/uploads/2025/10/hh-dinner.jpg
END:VEVENT
BEGIN:VEVENT
DTSTART;TZID=America/New_York:20260507T120000
DTEND;TZID=America/New_York:20260507T135000
DTSTAMP:20260421T172346
CREATED:20260211T153209Z
LAST-MODIFIED:20260306T194110Z
UID:10013238-1778155200-1778161800@hillel.harvard.edu
SUMMARY:Israeli & Jewish Community Lunches @ Longwood
DESCRIPTION:Israeli & Jewish Community Lunches\nJoin us for weekly Israeli and Jewish community lunches in Longwood\, open to students\, trainees\, faculty\, and staff. Enjoy kosher food and connect with the broader Jewish community at Harvard’s medical campus. Harvard University ID required.
URL:https://hillel.harvard.edu/event/israeli-jewish-community-lunches-longwood/2026-05-07/
LOCATION:Vanderbilt Hall: JB Martin Student Lounge\, 107 Avenue Louis Pasteur\, Boston\, MA\, 02115\, United States
CATEGORIES:Meals,Programs
ATTACH;FMTTYPE=image/png:https://hillel.harvard.edu/wp-content/uploads/2026/02/Longwood-Lunches1.png
END:VEVENT
BEGIN:VEVENT
DTSTART;TZID=America/New_York:20260507T170000
DTEND;TZID=America/New_York:20260507T193000
DTSTAMP:20260421T172346
CREATED:20260304T180230Z
LAST-MODIFIED:20260401T141244Z
UID:10016926-1778173200-1778182200@hillel.harvard.edu
SUMMARY:Dinner
DESCRIPTION:Join us for dinner Saturday through Thursday at Harvard Hillel! Undergraduate students on the meal plan can swipe in; graduate students and community members are welcome to purchase meals. On Wednesdays\, graduate students can enjoy Cheap Eats—a full dinner for just $5. Come for the food\, stay for the community. \n  \nCheck out this week’s menu! \n 
URL:https://hillel.harvard.edu/event/dinner/2026-05-07/
LOCATION:Harvard Hillel\, MA
CATEGORIES:Meals
ATTACH;FMTTYPE=image/jpeg:https://hillel.harvard.edu/wp-content/uploads/2025/10/hillel_faculty_dinner_112.jpg
END:VEVENT
BEGIN:VEVENT
DTSTART;TZID=America/New_York:20260507T180000
DTEND;TZID=America/New_York:20260507T193000
DTSTAMP:20260421T172346
CREATED:20260126T220700Z
LAST-MODIFIED:20260331T200635Z
UID:10011062-1778176800-1778182200@hillel.harvard.edu
SUMMARY:Shulchan Ivrit\, Hebrew Table
DESCRIPTION:A welcoming\, low pressure space for practicing spoken Hebrew at all levels\, grounded in conversation\, shared meals\, and meaningful community building.
URL:https://hillel.harvard.edu/event/shulchan-ivrit-dinner-session-2/2026-05-07/
LOCATION:Harvard Hillel\, MA
CATEGORIES:Meals,Programs
ATTACH;FMTTYPE=image/png:https://hillel.harvard.edu/wp-content/uploads/2026/02/Shulhan-Ivrit-FINAL-1080-x-1080-px.png
ORGANIZER;CN="Mahran Yosef":MAILTO:mahran@hillel.harvard.edu
END:VEVENT
BEGIN:VEVENT
DTSTART;TZID=America/New_York:20260508T113000
DTEND;TZID=America/New_York:20260508T140000
DTSTAMP:20260421T172346
CREATED:20260304T180313Z
LAST-MODIFIED:20260306T193423Z
UID:10015370-1778239800-1778248800@hillel.harvard.edu
SUMMARY:Lunch
DESCRIPTION:Join us for lunch Sunday through Friday at Harvard Hillel! Undergraduate students on the meal plan can swipe in; graduate students and community members are welcome to purchase meals. It’s a great way to grab a bite\, catch up with friends\, and take a break from your day in a welcoming space. \n  \nCheck out this week’s menu! \n 
URL:https://hillel.harvard.edu/event/lunch/
CATEGORIES:Meals
ATTACH;FMTTYPE=image/jpeg:https://hillel.harvard.edu/wp-content/uploads/2025/10/hh-dinner.jpg
END:VEVENT
BEGIN:VEVENT
DTSTART;TZID=America/New_York:20260508T190000
DTEND;TZID=America/New_York:20260508T210000
DTSTAMP:20260421T172346
CREATED:20260126T221439Z
LAST-MODIFIED:20260306T192952Z
UID:10012416-1778266800-1778274000@hillel.harvard.edu
SUMMARY:Shabbat Dinner
DESCRIPTION:Join us Friday evenings for Shabbat dinner\, a cornerstone of our community. Share a delicious meal\, welcome the Sabbath with song and blessings\, and connect with fellow students in a warm\, joyful atmosphere. Undergraduate students on the meal plan can swipe in (we’re happy to offer alternative access for Shabbat-observant students)\, and graduate students eat free. All are welcome at our Shabbat table – community members can purchase their meals in advance.
URL:https://hillel.harvard.edu/event/shabbat-dinner/2026-05-08/
LOCATION:Harvard Hillel\, MA
CATEGORIES:Meals
ATTACH;FMTTYPE=image/jpeg:https://hillel.harvard.edu/wp-content/uploads/2025/10/shabbat-dinner.jpg
END:VEVENT
BEGIN:VEVENT
DTSTART;TZID=America/New_York:20260509T113000
DTEND;TZID=America/New_York:20260509T140000
DTSTAMP:20260421T172346
CREATED:20260126T221506Z
LAST-MODIFIED:20260306T192959Z
UID:10012689-1778326200-1778335200@hillel.harvard.edu
SUMMARY:Shabbat Lunch
DESCRIPTION:Continue the Shabbat spirit on Saturday afternoon with a communal lunch following morning services. Enjoy good food and great conversation as we mark the day of rest together. Undergraduate students on the meal plan can swipe in\, and graduate students eat free. Whether you join us for services or just for the meal\, you’re always welcome – community members can purchase Shabbat meals in advance.
URL:https://hillel.harvard.edu/event/shabbat-lunch/2026-05-09/
LOCATION:Harvard Hillel\, MA
CATEGORIES:Meals
ATTACH;FMTTYPE=image/jpeg:https://hillel.harvard.edu/wp-content/uploads/2025/10/shabbat-dinner.jpg
END:VEVENT
BEGIN:VEVENT
DTSTART;TZID=America/New_York:20260509T170000
DTEND;TZID=America/New_York:20260509T193000
DTSTAMP:20260421T172346
CREATED:20260304T180230Z
LAST-MODIFIED:20260401T141244Z
UID:10016927-1778346000-1778355000@hillel.harvard.edu
SUMMARY:Dinner
DESCRIPTION:Join us for dinner Saturday through Thursday at Harvard Hillel! Undergraduate students on the meal plan can swipe in; graduate students and community members are welcome to purchase meals. On Wednesdays\, graduate students can enjoy Cheap Eats—a full dinner for just $5. Come for the food\, stay for the community. \n  \nCheck out this week’s menu! \n 
URL:https://hillel.harvard.edu/event/dinner/2026-05-09/
LOCATION:Harvard Hillel\, MA
CATEGORIES:Meals
ATTACH;FMTTYPE=image/jpeg:https://hillel.harvard.edu/wp-content/uploads/2025/10/hillel_faculty_dinner_112.jpg
END:VEVENT
END:VCALENDAR