BEGIN:VCALENDAR
VERSION:2.0
PRODID:-//Harvard Hillel - ECPv6.15.20//NONSGML v1.0//EN
CALSCALE:GREGORIAN
METHOD:PUBLISH
X-WR-CALNAME:Harvard Hillel
X-ORIGINAL-URL:https://hillel.harvard.edu
X-WR-CALDESC:Events for Harvard Hillel
REFRESH-INTERVAL;VALUE=DURATION:PT1H
X-Robots-Tag:noindex
X-PUBLISHED-TTL:PT1H
BEGIN:VTIMEZONE
TZID:America/New_York
BEGIN:DAYLIGHT
TZOFFSETFROM:-0500
TZOFFSETTO:-0400
TZNAME:EDT
DTSTART:20250309T070000
END:DAYLIGHT
BEGIN:STANDARD
TZOFFSETFROM:-0400
TZOFFSETTO:-0500
TZNAME:EST
DTSTART:20251102T060000
END:STANDARD
BEGIN:DAYLIGHT
TZOFFSETFROM:-0500
TZOFFSETTO:-0400
TZNAME:EDT
DTSTART:20260308T070000
END:DAYLIGHT
BEGIN:STANDARD
TZOFFSETFROM:-0400
TZOFFSETTO:-0500
TZNAME:EST
DTSTART:20261101T060000
END:STANDARD
BEGIN:DAYLIGHT
TZOFFSETFROM:-0500
TZOFFSETTO:-0400
TZNAME:EDT
DTSTART:20270314T070000
END:DAYLIGHT
BEGIN:STANDARD
TZOFFSETFROM:-0400
TZOFFSETTO:-0500
TZNAME:EST
DTSTART:20271107T060000
END:STANDARD
END:VTIMEZONE
BEGIN:VEVENT
DTSTART;TZID=America/New_York:20260531T110000
DTEND;TZID=America/New_York:20260531T130000
DTSTAMP:20260421T183504
CREATED:20260126T220825Z
LAST-MODIFIED:20260313T150002Z
UID:10011336-1780225200-1780232400@hillel.harvard.edu
SUMMARY:Bagel Brunch
DESCRIPTION:Start your week with Bagel Brunch at Harvard Hillel. We’ve got fresh bagels\, schmear\, and lox- plus a space to catch up with friends or meet new ones. Everyone’s welcome to stop by for good food and good company. Hope to see you there!
URL:https://hillel.harvard.edu/event/bagel-brunch/2026-05-31/
LOCATION:Harvard Hillel\, MA
CATEGORIES:Meals,Programs
ATTACH;FMTTYPE=image/jpeg:https://hillel.harvard.edu/wp-content/uploads/2025/10/Bagel-Brunch.jpeg
ORGANIZER;CN="Elazar Fine":MAILTO:elazar@hillel.harvard.edu
END:VEVENT
BEGIN:VEVENT
DTSTART;TZID=America/New_York:20260531T113000
DTEND;TZID=America/New_York:20260531T140000
DTSTAMP:20260421T183504
CREATED:20260304T180313Z
LAST-MODIFIED:20260306T193423Z
UID:10015386-1780227000-1780236000@hillel.harvard.edu
SUMMARY:Lunch
DESCRIPTION:Join us for lunch Sunday through Friday at Harvard Hillel! Undergraduate students on the meal plan can swipe in; graduate students and community members are welcome to purchase meals. It’s a great way to grab a bite\, catch up with friends\, and take a break from your day in a welcoming space. \n  \nCheck out this week’s menu! \n 
URL:https://hillel.harvard.edu/event/lunch/
CATEGORIES:Meals
ATTACH;FMTTYPE=image/jpeg:https://hillel.harvard.edu/wp-content/uploads/2025/10/hh-dinner.jpg
END:VEVENT
BEGIN:VEVENT
DTSTART;TZID=America/New_York:20260531T170000
DTEND;TZID=America/New_York:20260531T193000
DTSTAMP:20260421T183504
CREATED:20260304T180230Z
LAST-MODIFIED:20260401T141244Z
UID:10016946-1780246800-1780255800@hillel.harvard.edu
SUMMARY:Dinner
DESCRIPTION:Join us for dinner Saturday through Thursday at Harvard Hillel! Undergraduate students on the meal plan can swipe in; graduate students and community members are welcome to purchase meals. On Wednesdays\, graduate students can enjoy Cheap Eats—a full dinner for just $5. Come for the food\, stay for the community. \n  \nCheck out this week’s menu! \n 
URL:https://hillel.harvard.edu/event/dinner/2026-05-31/
LOCATION:Harvard Hillel\, MA
CATEGORIES:Meals
ATTACH;FMTTYPE=image/jpeg:https://hillel.harvard.edu/wp-content/uploads/2025/10/hillel_faculty_dinner_112.jpg
END:VEVENT
BEGIN:VEVENT
DTSTART;TZID=America/New_York:20260601T113000
DTEND;TZID=America/New_York:20260601T140000
DTSTAMP:20260421T183504
CREATED:20260304T180313Z
LAST-MODIFIED:20260306T193423Z
UID:10016638-1780313400-1780322400@hillel.harvard.edu
SUMMARY:Lunch
DESCRIPTION:Join us for lunch Sunday through Friday at Harvard Hillel! Undergraduate students on the meal plan can swipe in; graduate students and community members are welcome to purchase meals. It’s a great way to grab a bite\, catch up with friends\, and take a break from your day in a welcoming space. \n  \nCheck out this week’s menu! \n 
URL:https://hillel.harvard.edu/event/lunch/
CATEGORIES:Meals
ATTACH;FMTTYPE=image/jpeg:https://hillel.harvard.edu/wp-content/uploads/2025/10/hh-dinner.jpg
END:VEVENT
BEGIN:VEVENT
DTSTART;TZID=America/New_York:20260601T120000
DTEND;TZID=America/New_York:20260601T130000
DTSTAMP:20260421T183504
CREATED:20260126T220523Z
LAST-MODIFIED:20260306T193624Z
UID:10010525-1780315200-1780318800@hillel.harvard.edu
SUMMARY:Shulchan Ivrit\, Hebrew Table
DESCRIPTION:A welcoming\, low pressure space for practicing spoken Hebrew at all levels\, grounded in conversation\, shared meals\, and meaningful community building.
URL:https://hillel.harvard.edu/event/shulchan-ivrit-lunch-session/2026-06-01/
LOCATION:Harvard Hillel\, MA
CATEGORIES:Meals,Programs
ATTACH;FMTTYPE=image/png:https://hillel.harvard.edu/wp-content/uploads/2026/02/Shulhan-Ivrit-FINAL-1080-x-1080-px.png
ORGANIZER;CN="Mahran Yosef":MAILTO:mahran@hillel.harvard.edu
END:VEVENT
BEGIN:VEVENT
DTSTART;TZID=America/New_York:20260601T170000
DTEND;TZID=America/New_York:20260601T193000
DTSTAMP:20260421T183504
CREATED:20260304T180230Z
LAST-MODIFIED:20260401T141244Z
UID:10016947-1780333200-1780342200@hillel.harvard.edu
SUMMARY:Dinner
DESCRIPTION:Join us for dinner Saturday through Thursday at Harvard Hillel! Undergraduate students on the meal plan can swipe in; graduate students and community members are welcome to purchase meals. On Wednesdays\, graduate students can enjoy Cheap Eats—a full dinner for just $5. Come for the food\, stay for the community. \n  \nCheck out this week’s menu! \n 
URL:https://hillel.harvard.edu/event/dinner/2026-06-01/
LOCATION:Harvard Hillel\, MA
CATEGORIES:Meals
ATTACH;FMTTYPE=image/jpeg:https://hillel.harvard.edu/wp-content/uploads/2025/10/hillel_faculty_dinner_112.jpg
END:VEVENT
BEGIN:VEVENT
DTSTART;TZID=America/New_York:20260602T113000
DTEND;TZID=America/New_York:20260602T140000
DTSTAMP:20260421T183504
CREATED:20260304T180313Z
LAST-MODIFIED:20260306T193423Z
UID:10015387-1780399800-1780408800@hillel.harvard.edu
SUMMARY:Lunch
DESCRIPTION:Join us for lunch Sunday through Friday at Harvard Hillel! Undergraduate students on the meal plan can swipe in; graduate students and community members are welcome to purchase meals. It’s a great way to grab a bite\, catch up with friends\, and take a break from your day in a welcoming space. \n  \nCheck out this week’s menu! \n 
URL:https://hillel.harvard.edu/event/lunch/
CATEGORIES:Meals
ATTACH;FMTTYPE=image/jpeg:https://hillel.harvard.edu/wp-content/uploads/2025/10/hh-dinner.jpg
END:VEVENT
BEGIN:VEVENT
DTSTART;TZID=America/New_York:20260602T170000
DTEND;TZID=America/New_York:20260602T193000
DTSTAMP:20260421T183504
CREATED:20260304T180230Z
LAST-MODIFIED:20260401T141244Z
UID:10016948-1780419600-1780428600@hillel.harvard.edu
SUMMARY:Dinner
DESCRIPTION:Join us for dinner Saturday through Thursday at Harvard Hillel! Undergraduate students on the meal plan can swipe in; graduate students and community members are welcome to purchase meals. On Wednesdays\, graduate students can enjoy Cheap Eats—a full dinner for just $5. Come for the food\, stay for the community. \n  \nCheck out this week’s menu! \n 
URL:https://hillel.harvard.edu/event/dinner/2026-06-02/
LOCATION:Harvard Hillel\, MA
CATEGORIES:Meals
ATTACH;FMTTYPE=image/jpeg:https://hillel.harvard.edu/wp-content/uploads/2025/10/hillel_faculty_dinner_112.jpg
END:VEVENT
BEGIN:VEVENT
DTSTART;TZID=America/New_York:20260603T113000
DTEND;TZID=America/New_York:20260603T140000
DTSTAMP:20260421T183504
CREATED:20260304T180313Z
LAST-MODIFIED:20260306T193423Z
UID:10015388-1780486200-1780495200@hillel.harvard.edu
SUMMARY:Lunch
DESCRIPTION:Join us for lunch Sunday through Friday at Harvard Hillel! Undergraduate students on the meal plan can swipe in; graduate students and community members are welcome to purchase meals. It’s a great way to grab a bite\, catch up with friends\, and take a break from your day in a welcoming space. \n  \nCheck out this week’s menu! \n 
URL:https://hillel.harvard.edu/event/lunch/
CATEGORIES:Meals
ATTACH;FMTTYPE=image/jpeg:https://hillel.harvard.edu/wp-content/uploads/2025/10/hh-dinner.jpg
END:VEVENT
BEGIN:VEVENT
DTSTART;TZID=America/New_York:20260603T170000
DTEND;TZID=America/New_York:20260603T193000
DTSTAMP:20260421T183504
CREATED:20260304T180230Z
LAST-MODIFIED:20260401T141244Z
UID:10016949-1780506000-1780515000@hillel.harvard.edu
SUMMARY:Dinner
DESCRIPTION:Join us for dinner Saturday through Thursday at Harvard Hillel! Undergraduate students on the meal plan can swipe in; graduate students and community members are welcome to purchase meals. On Wednesdays\, graduate students can enjoy Cheap Eats—a full dinner for just $5. Come for the food\, stay for the community. \n  \nCheck out this week’s menu! \n 
URL:https://hillel.harvard.edu/event/dinner/2026-06-03/
LOCATION:Harvard Hillel\, MA
CATEGORIES:Meals
ATTACH;FMTTYPE=image/jpeg:https://hillel.harvard.edu/wp-content/uploads/2025/10/hillel_faculty_dinner_112.jpg
END:VEVENT
BEGIN:VEVENT
DTSTART;TZID=America/New_York:20260603T180000
DTEND;TZID=America/New_York:20260603T193000
DTSTAMP:20260421T183504
CREATED:20260211T154200Z
LAST-MODIFIED:20260417T144220Z
UID:10013262-1780509600-1780515000@hillel.harvard.edu
SUMMARY:Shulchan Aravit\, Arabic Table
DESCRIPTION:An inclusive conversational environment open to all proficiency levels\, offering opportunities to practice spoken Arabic through dialogue\, food\, and social connection.
URL:https://hillel.harvard.edu/event/shulchan-aravit-arabic-table/2026-06-03/
LOCATION:Harvard Hillel\, MA
CATEGORIES:Meals,Programs
ATTACH;FMTTYPE=image/png:https://hillel.harvard.edu/wp-content/uploads/2026/02/Arabic-Table.png
ORGANIZER;CN="Mahran Yosef":MAILTO:mahran@hillel.harvard.edu
END:VEVENT
BEGIN:VEVENT
DTSTART;TZID=America/New_York:20260604T113000
DTEND;TZID=America/New_York:20260604T140000
DTSTAMP:20260421T183504
CREATED:20260304T180313Z
LAST-MODIFIED:20260306T193423Z
UID:10015389-1780572600-1780581600@hillel.harvard.edu
SUMMARY:Lunch
DESCRIPTION:Join us for lunch Sunday through Friday at Harvard Hillel! Undergraduate students on the meal plan can swipe in; graduate students and community members are welcome to purchase meals. It’s a great way to grab a bite\, catch up with friends\, and take a break from your day in a welcoming space. \n  \nCheck out this week’s menu! \n 
URL:https://hillel.harvard.edu/event/lunch/
CATEGORIES:Meals
ATTACH;FMTTYPE=image/jpeg:https://hillel.harvard.edu/wp-content/uploads/2025/10/hh-dinner.jpg
END:VEVENT
BEGIN:VEVENT
DTSTART;TZID=America/New_York:20260604T170000
DTEND;TZID=America/New_York:20260604T193000
DTSTAMP:20260421T183504
CREATED:20260304T180230Z
LAST-MODIFIED:20260401T141244Z
UID:10016950-1780592400-1780601400@hillel.harvard.edu
SUMMARY:Dinner
DESCRIPTION:Join us for dinner Saturday through Thursday at Harvard Hillel! Undergraduate students on the meal plan can swipe in; graduate students and community members are welcome to purchase meals. On Wednesdays\, graduate students can enjoy Cheap Eats—a full dinner for just $5. Come for the food\, stay for the community. \n  \nCheck out this week’s menu! \n 
URL:https://hillel.harvard.edu/event/dinner/2026-06-04/
LOCATION:Harvard Hillel\, MA
CATEGORIES:Meals
ATTACH;FMTTYPE=image/jpeg:https://hillel.harvard.edu/wp-content/uploads/2025/10/hillel_faculty_dinner_112.jpg
END:VEVENT
BEGIN:VEVENT
DTSTART;TZID=America/New_York:20260604T180000
DTEND;TZID=America/New_York:20260604T193000
DTSTAMP:20260421T183504
CREATED:20260126T220700Z
LAST-MODIFIED:20260331T200635Z
UID:10011066-1780596000-1780601400@hillel.harvard.edu
SUMMARY:Shulchan Ivrit\, Hebrew Table
DESCRIPTION:A welcoming\, low pressure space for practicing spoken Hebrew at all levels\, grounded in conversation\, shared meals\, and meaningful community building.
URL:https://hillel.harvard.edu/event/shulchan-ivrit-dinner-session-2/2026-06-04/
LOCATION:Harvard Hillel\, MA
CATEGORIES:Meals,Programs
ATTACH;FMTTYPE=image/png:https://hillel.harvard.edu/wp-content/uploads/2026/02/Shulhan-Ivrit-FINAL-1080-x-1080-px.png
ORGANIZER;CN="Mahran Yosef":MAILTO:mahran@hillel.harvard.edu
END:VEVENT
BEGIN:VEVENT
DTSTART;TZID=America/New_York:20260605T113000
DTEND;TZID=America/New_York:20260605T140000
DTSTAMP:20260421T183504
CREATED:20260304T180313Z
LAST-MODIFIED:20260306T193423Z
UID:10015390-1780659000-1780668000@hillel.harvard.edu
SUMMARY:Lunch
DESCRIPTION:Join us for lunch Sunday through Friday at Harvard Hillel! Undergraduate students on the meal plan can swipe in; graduate students and community members are welcome to purchase meals. It’s a great way to grab a bite\, catch up with friends\, and take a break from your day in a welcoming space. \n  \nCheck out this week’s menu! \n 
URL:https://hillel.harvard.edu/event/lunch/
CATEGORIES:Meals
ATTACH;FMTTYPE=image/jpeg:https://hillel.harvard.edu/wp-content/uploads/2025/10/hh-dinner.jpg
END:VEVENT
BEGIN:VEVENT
DTSTART;TZID=America/New_York:20260605T190000
DTEND;TZID=America/New_York:20260605T210000
DTSTAMP:20260421T183504
CREATED:20260126T221439Z
LAST-MODIFIED:20260306T192952Z
UID:10012420-1780686000-1780693200@hillel.harvard.edu
SUMMARY:Shabbat Dinner
DESCRIPTION:Join us Friday evenings for Shabbat dinner\, a cornerstone of our community. Share a delicious meal\, welcome the Sabbath with song and blessings\, and connect with fellow students in a warm\, joyful atmosphere. Undergraduate students on the meal plan can swipe in (we’re happy to offer alternative access for Shabbat-observant students)\, and graduate students eat free. All are welcome at our Shabbat table – community members can purchase their meals in advance.
URL:https://hillel.harvard.edu/event/shabbat-dinner/2026-06-05/
LOCATION:Harvard Hillel\, MA
CATEGORIES:Meals
ATTACH;FMTTYPE=image/jpeg:https://hillel.harvard.edu/wp-content/uploads/2025/10/shabbat-dinner.jpg
END:VEVENT
BEGIN:VEVENT
DTSTART;TZID=America/New_York:20260605T193000
DTEND;TZID=America/New_York:20260605T210000
DTSTAMP:20260421T183504
CREATED:20260416T181108Z
LAST-MODIFIED:20260416T181108Z
UID:10020482-1780687800-1780693200@hillel.harvard.edu
SUMMARY:Reunion Shabbat Dinner
DESCRIPTION:It’s Shabbat dinner at Hillel\, just like you remember it. Join us for a festive meal with fellow alumni and friends. \n  \nRSVP NOW \n 
URL:https://hillel.harvard.edu/event/reunion-shabbat-dinner/
LOCATION:Harvard Hillel\, MA
CATEGORIES:Meals,Programs
ATTACH;FMTTYPE=image/webp:https://hillel.harvard.edu/wp-content/uploads/2026/04/mkvh9063762.webp
ORGANIZER;CN="Rabbi Elisha Gechter":MAILTO:elisha@hillel.harvard.edu
END:VEVENT
BEGIN:VEVENT
DTSTART;TZID=America/New_York:20260606T113000
DTEND;TZID=America/New_York:20260606T140000
DTSTAMP:20260421T183504
CREATED:20260126T221506Z
LAST-MODIFIED:20260306T192959Z
UID:10012693-1780745400-1780754400@hillel.harvard.edu
SUMMARY:Shabbat Lunch
DESCRIPTION:Continue the Shabbat spirit on Saturday afternoon with a communal lunch following morning services. Enjoy good food and great conversation as we mark the day of rest together. Undergraduate students on the meal plan can swipe in\, and graduate students eat free. Whether you join us for services or just for the meal\, you’re always welcome – community members can purchase Shabbat meals in advance.
URL:https://hillel.harvard.edu/event/shabbat-lunch/2026-06-06/
LOCATION:Harvard Hillel\, MA
CATEGORIES:Meals
ATTACH;FMTTYPE=image/jpeg:https://hillel.harvard.edu/wp-content/uploads/2025/10/shabbat-dinner.jpg
END:VEVENT
BEGIN:VEVENT
DTSTART;TZID=America/New_York:20260606T170000
DTEND;TZID=America/New_York:20260606T193000
DTSTAMP:20260421T183504
CREATED:20260304T180230Z
LAST-MODIFIED:20260401T141244Z
UID:10016951-1780765200-1780774200@hillel.harvard.edu
SUMMARY:Dinner
DESCRIPTION:Join us for dinner Saturday through Thursday at Harvard Hillel! Undergraduate students on the meal plan can swipe in; graduate students and community members are welcome to purchase meals. On Wednesdays\, graduate students can enjoy Cheap Eats—a full dinner for just $5. Come for the food\, stay for the community. \n  \nCheck out this week’s menu! \n 
URL:https://hillel.harvard.edu/event/dinner/2026-06-06/
LOCATION:Harvard Hillel\, MA
CATEGORIES:Meals
ATTACH;FMTTYPE=image/jpeg:https://hillel.harvard.edu/wp-content/uploads/2025/10/hillel_faculty_dinner_112.jpg
END:VEVENT
END:VCALENDAR