BEGIN:VCALENDAR
VERSION:2.0
PRODID:-//Harvard Hillel - ECPv6.15.20//NONSGML v1.0//EN
CALSCALE:GREGORIAN
METHOD:PUBLISH
X-ORIGINAL-URL:https://hillel.harvard.edu
X-WR-CALDESC:Events for Harvard Hillel
REFRESH-INTERVAL;VALUE=DURATION:PT1H
X-Robots-Tag:noindex
X-PUBLISHED-TTL:PT1H
BEGIN:VTIMEZONE
TZID:America/New_York
BEGIN:DAYLIGHT
TZOFFSETFROM:-0500
TZOFFSETTO:-0400
TZNAME:EDT
DTSTART:20240310T070000
END:DAYLIGHT
BEGIN:STANDARD
TZOFFSETFROM:-0400
TZOFFSETTO:-0500
TZNAME:EST
DTSTART:20241103T060000
END:STANDARD
BEGIN:DAYLIGHT
TZOFFSETFROM:-0500
TZOFFSETTO:-0400
TZNAME:EDT
DTSTART:20250309T070000
END:DAYLIGHT
BEGIN:STANDARD
TZOFFSETFROM:-0400
TZOFFSETTO:-0500
TZNAME:EST
DTSTART:20251102T060000
END:STANDARD
BEGIN:DAYLIGHT
TZOFFSETFROM:-0500
TZOFFSETTO:-0400
TZNAME:EDT
DTSTART:20260308T070000
END:DAYLIGHT
BEGIN:STANDARD
TZOFFSETFROM:-0400
TZOFFSETTO:-0500
TZNAME:EST
DTSTART:20261101T060000
END:STANDARD
END:VTIMEZONE
BEGIN:VEVENT
DTSTART;TZID=America/New_York:20251208T190000
DTEND;TZID=America/New_York:20251208T200000
DTSTAMP:20260419T210923
CREATED:20251119T170550Z
LAST-MODIFIED:20260211T165346Z
UID:10007142-1765220400-1765224000@hillel.harvard.edu
SUMMARY:Candidate Forum
DESCRIPTION:This will be an opportunity for members of the Hillel community to learn more about the candidates running for student board and their plans.
URL:https://hillel.harvard.edu/event/candidate-forum/
LOCATION:Harvard Hillel\, MA
CATEGORIES:Programs
ATTACH;FMTTYPE=image/jpeg:https://hillel.harvard.edu/wp-content/uploads/2025/11/candidate-forum.jpg
END:VEVENT
BEGIN:VEVENT
DTSTART;TZID=America/New_York:20251209T193000
DTEND;TZID=America/New_York:20251209T203000
DTSTAMP:20260419T210923
CREATED:20251119T170823Z
LAST-MODIFIED:20260211T165342Z
UID:10007143-1765308600-1765312200@hillel.harvard.edu
SUMMARY:ApiChorus Winter Concert
DESCRIPTION:ApiChorus\, Harvard’s Jewish a cappella group\, invites you to a Winter Concert. Enjoy festive songs and favorites from their fall repertoire.
URL:https://hillel.harvard.edu/event/apichorus-winter-concert/
LOCATION:Harvard Hillel\, MA
CATEGORIES:Programs
ATTACH;FMTTYPE=image/jpeg:https://hillel.harvard.edu/wp-content/uploads/2025/11/apichorus.jpg
END:VEVENT
BEGIN:VEVENT
DTSTART;TZID=America/New_York:20251210T193000
DTEND;TZID=America/New_York:20251210T203000
DTSTAMP:20260419T210923
CREATED:20251119T170902Z
LAST-MODIFIED:20260211T165331Z
UID:10007144-1765395000-1765398600@hillel.harvard.edu
SUMMARY:Study Break
DESCRIPTION:Take a break from studying and come to Hillel for snacks and a space to unwind.
URL:https://hillel.harvard.edu/event/study-break/
LOCATION:Harvard Hillel\, MA
CATEGORIES:Programs
ATTACH;FMTTYPE=image/avif:https://hillel.harvard.edu/wp-content/uploads/2025/11/07cf30_c666113bbfa740cd978bf8bbaba2ec1bmv2.avif
END:VEVENT
END:VCALENDAR