BEGIN:VCALENDAR
VERSION:2.0
PRODID:-//Harvard Hillel - ECPv6.15.20//NONSGML v1.0//EN
CALSCALE:GREGORIAN
METHOD:PUBLISH
X-WR-CALNAME:Harvard Hillel
X-ORIGINAL-URL:https://hillel.harvard.edu
X-WR-CALDESC:Events for Harvard Hillel
REFRESH-INTERVAL;VALUE=DURATION:PT1H
X-Robots-Tag:noindex
X-PUBLISHED-TTL:PT1H
BEGIN:VTIMEZONE
TZID:America/New_York
BEGIN:DAYLIGHT
TZOFFSETFROM:-0500
TZOFFSETTO:-0400
TZNAME:EDT
DTSTART:20240310T070000
END:DAYLIGHT
BEGIN:STANDARD
TZOFFSETFROM:-0400
TZOFFSETTO:-0500
TZNAME:EST
DTSTART:20241103T060000
END:STANDARD
BEGIN:DAYLIGHT
TZOFFSETFROM:-0500
TZOFFSETTO:-0400
TZNAME:EDT
DTSTART:20250309T070000
END:DAYLIGHT
BEGIN:STANDARD
TZOFFSETFROM:-0400
TZOFFSETTO:-0500
TZNAME:EST
DTSTART:20251102T060000
END:STANDARD
BEGIN:DAYLIGHT
TZOFFSETFROM:-0500
TZOFFSETTO:-0400
TZNAME:EDT
DTSTART:20260308T070000
END:DAYLIGHT
BEGIN:STANDARD
TZOFFSETFROM:-0400
TZOFFSETTO:-0500
TZNAME:EST
DTSTART:20261101T060000
END:STANDARD
END:VTIMEZONE
BEGIN:VEVENT
DTSTART;TZID=America/New_York:20251215T173000
DTEND;TZID=America/New_York:20251215T193000
DTSTAMP:20260419T210434
CREATED:20251119T171119Z
LAST-MODIFIED:20260211T165322Z
UID:10007145-1765819800-1765827000@hillel.harvard.edu
SUMMARY:NYC Hanukkah Party
DESCRIPTION:New York Alumni\, Parents\, and Friends: Celebrate Hanukkah with Harvard Hillel! \nJoin Harvard Hillel alumni\, parents\, and friends to celebrate the second night of Hanukkah in New York on December 15. We’ll light candles\, eat latkes\, and catch up with friends old and new. Whether you were at Hillel every week or just popped in for the High Holidays\, come celebrate Hanukkah 2025 with your extended Harvard Jewish community. \nRegister \n 
URL:https://hillel.harvard.edu/event/nyc-hanukkah-party/
LOCATION:MA
CATEGORIES:Programs
ATTACH;FMTTYPE=image/jpeg:https://hillel.harvard.edu/wp-content/uploads/2025/11/hanukkah.jpg
END:VEVENT
BEGIN:VEVENT
DTSTART;TZID=America/New_York:20251216T173000
DTEND;TZID=America/New_York:20251216T193000
DTSTAMP:20260419T210434
CREATED:20251119T171612Z
LAST-MODIFIED:20260211T165152Z
UID:10007146-1765906200-1765913400@hillel.harvard.edu
SUMMARY:Washington\, DC Hanukkah Party
DESCRIPTION:D.C. Alumni\, Parents\, and Friends: Celebrate Hanukkah with Harvard Hillel! \nBring the warmth of Hanukkah into the heart of DC as Harvard Hillel alumni\, parents\, and friends gather for a festive evening on the third night of Hanukkah. Enjoy candle-lighting\, classic holiday treats\, and the chance to reconnect with the vibrant Harvard Jewish network that is in DC. Whether you were a Hillel regular or dropped by on special occasions\, we’d love to gather with you for a warm and meaningful Hanukkah 2025 celebration. \nRegister
URL:https://hillel.harvard.edu/event/washington-dc-hanukkah-party/
LOCATION:MA
CATEGORIES:Programs
ATTACH;FMTTYPE=image/jpeg:https://hillel.harvard.edu/wp-content/uploads/2025/11/dc.jpg
END:VEVENT
END:VCALENDAR