BEGIN:VCALENDAR
VERSION:2.0
PRODID:-//Harvard Hillel - ECPv6.15.20//NONSGML v1.0//EN
CALSCALE:GREGORIAN
METHOD:PUBLISH
X-WR-CALNAME:Harvard Hillel
X-ORIGINAL-URL:https://hillel.harvard.edu
X-WR-CALDESC:Events for Harvard Hillel
REFRESH-INTERVAL;VALUE=DURATION:PT1H
X-Robots-Tag:noindex
X-PUBLISHED-TTL:PT1H
BEGIN:VTIMEZONE
TZID:America/New_York
BEGIN:DAYLIGHT
TZOFFSETFROM:-0500
TZOFFSETTO:-0400
TZNAME:EDT
DTSTART:20260308T070000
END:DAYLIGHT
BEGIN:STANDARD
TZOFFSETFROM:-0400
TZOFFSETTO:-0500
TZNAME:EST
DTSTART:20261101T060000
END:STANDARD
BEGIN:DAYLIGHT
TZOFFSETFROM:-0500
TZOFFSETTO:-0400
TZNAME:EDT
DTSTART:20270314T070000
END:DAYLIGHT
BEGIN:STANDARD
TZOFFSETFROM:-0400
TZOFFSETTO:-0500
TZNAME:EST
DTSTART:20271107T060000
END:STANDARD
BEGIN:DAYLIGHT
TZOFFSETFROM:-0500
TZOFFSETTO:-0400
TZNAME:EDT
DTSTART:20280312T070000
END:DAYLIGHT
BEGIN:STANDARD
TZOFFSETFROM:-0400
TZOFFSETTO:-0500
TZNAME:EST
DTSTART:20281105T060000
END:STANDARD
END:VTIMEZONE
BEGIN:VEVENT
DTSTART;TZID=America/New_York:20270301T071500
DTEND;TZID=America/New_York:20270301T080000
DTSTAMP:20260420T004501
CREATED:20251017T194351Z
LAST-MODIFIED:20260331T194619Z
UID:10014528-1803885300-1803888000@hillel.harvard.edu
SUMMARY:Orthodox Weekday Shacharis
DESCRIPTION:Start your day with Orthodox weekday morning services. Join us for Shacharis each weekday morning to connect with tradition\, community\, and prayer before diving into your day. All are welcome\, whether you’re looking for a daily minyan or just want to pop in.
URL:https://hillel.harvard.edu/event/orthodox-weekday-shacharis-mt/2027-03-01/
LOCATION:Harvard Hillel\, MA
CATEGORIES:Minyanim
ATTACH;FMTTYPE=image/jpeg:https://hillel.harvard.edu/wp-content/uploads/2025/10/IMG-20241121-WA0030.jpg
END:VEVENT
BEGIN:VEVENT
DTSTART;TZID=America/New_York:20270301T113000
DTEND;TZID=America/New_York:20270301T140000
DTSTAMP:20260420T004501
CREATED:20260304T180313Z
LAST-MODIFIED:20260306T193423Z
UID:10016677-1803900600-1803909600@hillel.harvard.edu
SUMMARY:Lunch
DESCRIPTION:Join us for lunch Sunday through Friday at Harvard Hillel! Undergraduate students on the meal plan can swipe in; graduate students and community members are welcome to purchase meals. It’s a great way to grab a bite\, catch up with friends\, and take a break from your day in a welcoming space. \n  \nCheck out this week’s menu! \n 
URL:https://hillel.harvard.edu/event/lunch/
LOCATION:MA
CATEGORIES:Meals
ATTACH;FMTTYPE=image/jpeg:https://hillel.harvard.edu/wp-content/uploads/2025/10/hh-dinner.jpg
END:VEVENT
BEGIN:VEVENT
DTSTART;TZID=America/New_York:20270301T120000
DTEND;TZID=America/New_York:20270301T130000
DTSTAMP:20260420T004501
CREATED:20260126T220523Z
LAST-MODIFIED:20260306T193624Z
UID:10010564-1803902400-1803906000@hillel.harvard.edu
SUMMARY:Shulchan Ivrit\, Hebrew Table
DESCRIPTION:A welcoming\, low pressure space for practicing spoken Hebrew at all levels\, grounded in conversation\, shared meals\, and meaningful community building.
URL:https://hillel.harvard.edu/event/shulchan-ivrit-lunch-session/2027-03-01/
LOCATION:Harvard Hillel\, MA
CATEGORIES:Meals,Programs
ATTACH;FMTTYPE=image/png:https://hillel.harvard.edu/wp-content/uploads/2026/02/Shulhan-Ivrit-FINAL-1080-x-1080-px.png
ORGANIZER;CN="Mahran Yosef":MAILTO:mahran@hillel.harvard.edu
END:VEVENT
BEGIN:VEVENT
DTSTART;TZID=America/New_York:20270301T170000
DTEND;TZID=America/New_York:20270301T193000
DTSTAMP:20260420T004501
CREATED:20260304T180230Z
LAST-MODIFIED:20260401T141244Z
UID:10017181-1803920400-1803929400@hillel.harvard.edu
SUMMARY:Dinner
DESCRIPTION:Join us for dinner Saturday through Thursday at Harvard Hillel! Undergraduate students on the meal plan can swipe in; graduate students and community members are welcome to purchase meals. On Wednesdays\, graduate students can enjoy Cheap Eats—a full dinner for just $5. Come for the food\, stay for the community. \n  \nCheck out this week’s menu! \n 
URL:https://hillel.harvard.edu/event/dinner/2027-03-01/
LOCATION:Harvard Hillel\, MA
CATEGORIES:Meals
ATTACH;FMTTYPE=image/jpeg:https://hillel.harvard.edu/wp-content/uploads/2025/10/hillel_faculty_dinner_112.jpg
END:VEVENT
BEGIN:VEVENT
DTSTART;TZID=America/New_York:20270302T072500
DTEND;TZID=America/New_York:20270302T080000
DTSTAMP:20260420T004501
CREATED:20251017T194723Z
LAST-MODIFIED:20260331T194620Z
UID:10013798-1803972300-1803974400@hillel.harvard.edu
SUMMARY:Orthodox Weekday Shacharis
DESCRIPTION:Start your day with Orthodox weekday morning services. Join us for Shacharis each weekday morning to connect with tradition\, community\, and prayer before diving into your day. All are welcome\, whether you’re looking for a daily minyan or just want to pop in.
URL:https://hillel.harvard.edu/event/orthodox-weekday-shacharis-twf/2027-03-02/
LOCATION:Harvard Hillel\, MA
CATEGORIES:Minyanim
ATTACH;FMTTYPE=image/jpeg:https://hillel.harvard.edu/wp-content/uploads/2025/10/IMG-20241121-WA0030.jpg
ORGANIZER;CN="Rachel Eilbaum":MAILTO:rachel@hillel.harvard.edu
END:VEVENT
BEGIN:VEVENT
DTSTART;TZID=America/New_York:20270302T113000
DTEND;TZID=America/New_York:20270302T140000
DTSTAMP:20260420T004501
CREATED:20260304T180313Z
LAST-MODIFIED:20260306T193423Z
UID:10015582-1803987000-1803996000@hillel.harvard.edu
SUMMARY:Lunch
DESCRIPTION:Join us for lunch Sunday through Friday at Harvard Hillel! Undergraduate students on the meal plan can swipe in; graduate students and community members are welcome to purchase meals. It’s a great way to grab a bite\, catch up with friends\, and take a break from your day in a welcoming space. \n  \nCheck out this week’s menu! \n 
URL:https://hillel.harvard.edu/event/lunch/
LOCATION:MA
CATEGORIES:Meals
ATTACH;FMTTYPE=image/jpeg:https://hillel.harvard.edu/wp-content/uploads/2025/10/hh-dinner.jpg
END:VEVENT
BEGIN:VEVENT
DTSTART;TZID=America/New_York:20270302T140000
DTEND;TZID=America/New_York:20270302T160000
DTSTAMP:20260420T004501
CREATED:20260122T193916Z
LAST-MODIFIED:20260331T200133Z
UID:10009051-1803996000-1804003200@hillel.harvard.edu
SUMMARY:Smoothies with Uzi
DESCRIPTION:Meet Uzi at Playa Bowls to connect with other students\, hang out with Uzi\, and enjoy a smoothie at Harvard Hillel.
URL:https://hillel.harvard.edu/event/smoothies-with-uzi/2027-03-02/
LOCATION:Playa Bowls\, 71 Mt Auburn St\, Cambridge\, MA\, 02138\, United States
CATEGORIES:Programs
ATTACH;FMTTYPE=image/jpeg:https://hillel.harvard.edu/wp-content/uploads/2026/01/HarvardHillelWelcomeWeek2025_StudentLeadershipRetreat_0085-scaled.jpg
END:VEVENT
BEGIN:VEVENT
DTSTART;TZID=America/New_York:20270302T170000
DTEND;TZID=America/New_York:20270302T193000
DTSTAMP:20260420T004501
CREATED:20260304T180230Z
LAST-MODIFIED:20260401T141244Z
UID:10017182-1804006800-1804015800@hillel.harvard.edu
SUMMARY:Dinner
DESCRIPTION:Join us for dinner Saturday through Thursday at Harvard Hillel! Undergraduate students on the meal plan can swipe in; graduate students and community members are welcome to purchase meals. On Wednesdays\, graduate students can enjoy Cheap Eats—a full dinner for just $5. Come for the food\, stay for the community. \n  \nCheck out this week’s menu! \n 
URL:https://hillel.harvard.edu/event/dinner/2027-03-02/
LOCATION:Harvard Hillel\, MA
CATEGORIES:Meals
ATTACH;FMTTYPE=image/jpeg:https://hillel.harvard.edu/wp-content/uploads/2025/10/hillel_faculty_dinner_112.jpg
END:VEVENT
BEGIN:VEVENT
DTSTART;TZID=America/New_York:20270302T193000
DTEND;TZID=America/New_York:20270302T203000
DTSTAMP:20260420T004501
CREATED:20260126T221055Z
LAST-MODIFIED:20260413T130145Z
UID:10011916-1804015800-1804019400@hillel.harvard.edu
SUMMARY:In Person Grad Hebrew Class
DESCRIPTION:Join our graduate student Hebrew classes designed for all levels\, from absolute beginners to advanced speakers. Build your skills\, practice conversation\, and connect with other grad students in a welcoming\, low-pressure environment. All levels are welcome  — come learn at your pace.
URL:https://hillel.harvard.edu/event/in-person-grad-hebrew-class/2027-03-02/
LOCATION:MA
CATEGORIES:Programs
ATTACH;FMTTYPE=image/png:https://hillel.harvard.edu/wp-content/uploads/2026/01/Virtual-Hebrew-_1_.png
END:VEVENT
BEGIN:VEVENT
DTSTART;TZID=America/New_York:20270303T072500
DTEND;TZID=America/New_York:20270303T080000
DTSTAMP:20260420T004501
CREATED:20251017T194723Z
LAST-MODIFIED:20260331T194620Z
UID:10013799-1804058700-1804060800@hillel.harvard.edu
SUMMARY:Orthodox Weekday Shacharis
DESCRIPTION:Start your day with Orthodox weekday morning services. Join us for Shacharis each weekday morning to connect with tradition\, community\, and prayer before diving into your day. All are welcome\, whether you’re looking for a daily minyan or just want to pop in.
URL:https://hillel.harvard.edu/event/orthodox-weekday-shacharis-twf/2027-03-03/
LOCATION:Harvard Hillel\, MA
CATEGORIES:Minyanim
ATTACH;FMTTYPE=image/jpeg:https://hillel.harvard.edu/wp-content/uploads/2025/10/IMG-20241121-WA0030.jpg
ORGANIZER;CN="Rachel Eilbaum":MAILTO:rachel@hillel.harvard.edu
END:VEVENT
BEGIN:VEVENT
DTSTART;TZID=America/New_York:20270303T113000
DTEND;TZID=America/New_York:20270303T140000
DTSTAMP:20260420T004501
CREATED:20260304T180313Z
LAST-MODIFIED:20260306T193423Z
UID:10015583-1804073400-1804082400@hillel.harvard.edu
SUMMARY:Lunch
DESCRIPTION:Join us for lunch Sunday through Friday at Harvard Hillel! Undergraduate students on the meal plan can swipe in; graduate students and community members are welcome to purchase meals. It’s a great way to grab a bite\, catch up with friends\, and take a break from your day in a welcoming space. \n  \nCheck out this week’s menu! \n 
URL:https://hillel.harvard.edu/event/lunch/
LOCATION:MA
CATEGORIES:Meals
ATTACH;FMTTYPE=image/jpeg:https://hillel.harvard.edu/wp-content/uploads/2025/10/hh-dinner.jpg
END:VEVENT
BEGIN:VEVENT
DTSTART;TZID=America/New_York:20270303T170000
DTEND;TZID=America/New_York:20270303T193000
DTSTAMP:20260420T004501
CREATED:20260304T180230Z
LAST-MODIFIED:20260401T141244Z
UID:10017183-1804093200-1804102200@hillel.harvard.edu
SUMMARY:Dinner
DESCRIPTION:Join us for dinner Saturday through Thursday at Harvard Hillel! Undergraduate students on the meal plan can swipe in; graduate students and community members are welcome to purchase meals. On Wednesdays\, graduate students can enjoy Cheap Eats—a full dinner for just $5. Come for the food\, stay for the community. \n  \nCheck out this week’s menu! \n 
URL:https://hillel.harvard.edu/event/dinner/2027-03-03/
LOCATION:Harvard Hillel\, MA
CATEGORIES:Meals
ATTACH;FMTTYPE=image/jpeg:https://hillel.harvard.edu/wp-content/uploads/2025/10/hillel_faculty_dinner_112.jpg
END:VEVENT
BEGIN:VEVENT
DTSTART;TZID=America/New_York:20270303T180000
DTEND;TZID=America/New_York:20270303T193000
DTSTAMP:20260420T004501
CREATED:20260211T154200Z
LAST-MODIFIED:20260417T144220Z
UID:10013301-1804096800-1804102200@hillel.harvard.edu
SUMMARY:Shulchan Aravit\, Arabic Table
DESCRIPTION:An inclusive conversational environment open to all proficiency levels\, offering opportunities to practice spoken Arabic through dialogue\, food\, and social connection.
URL:https://hillel.harvard.edu/event/shulchan-aravit-arabic-table/2027-03-03/
LOCATION:Harvard Hillel\, MA
CATEGORIES:Meals,Programs
ATTACH;FMTTYPE=image/png:https://hillel.harvard.edu/wp-content/uploads/2026/02/Arabic-Table.png
ORGANIZER;CN="Mahran Yosef":MAILTO:mahran@hillel.harvard.edu
END:VEVENT
BEGIN:VEVENT
DTSTART;TZID=America/New_York:20270303T193000
DTEND;TZID=America/New_York:20270303T203000
DTSTAMP:20260420T004501
CREATED:20260126T221016Z
LAST-MODIFIED:20260413T130219Z
UID:10011646-1804102200-1804105800@hillel.harvard.edu
SUMMARY:Virtual Grad Hebrew Class
DESCRIPTION:Join our graduate student Hebrew classes designed for all levels\, from absolute beginners to advanced speakers. Build your skills\, practice conversation\, and connect with other grad students in a welcoming\, low-pressure environment. All levels are welcome — come learn at your pace.
URL:https://hillel.harvard.edu/event/virtual-grad-hebrew-class/2027-03-03/
LOCATION:MA
CATEGORIES:Programs
ATTACH;FMTTYPE=image/png:https://hillel.harvard.edu/wp-content/uploads/2025/11/Virtual-Hebrew.png
END:VEVENT
BEGIN:VEVENT
DTSTART;TZID=America/New_York:20270304T071500
DTEND;TZID=America/New_York:20270304T080000
DTSTAMP:20260420T004501
CREATED:20251017T194351Z
LAST-MODIFIED:20260331T194619Z
UID:10014529-1804144500-1804147200@hillel.harvard.edu
SUMMARY:Orthodox Weekday Shacharis
DESCRIPTION:Start your day with Orthodox weekday morning services. Join us for Shacharis each weekday morning to connect with tradition\, community\, and prayer before diving into your day. All are welcome\, whether you’re looking for a daily minyan or just want to pop in.
URL:https://hillel.harvard.edu/event/orthodox-weekday-shacharis-mt/2027-03-04/
LOCATION:Harvard Hillel\, MA
CATEGORIES:Minyanim
ATTACH;FMTTYPE=image/jpeg:https://hillel.harvard.edu/wp-content/uploads/2025/10/IMG-20241121-WA0030.jpg
END:VEVENT
BEGIN:VEVENT
DTSTART;TZID=America/New_York:20270304T113000
DTEND;TZID=America/New_York:20270304T140000
DTSTAMP:20260420T004501
CREATED:20260304T180313Z
LAST-MODIFIED:20260306T193423Z
UID:10015584-1804159800-1804168800@hillel.harvard.edu
SUMMARY:Lunch
DESCRIPTION:Join us for lunch Sunday through Friday at Harvard Hillel! Undergraduate students on the meal plan can swipe in; graduate students and community members are welcome to purchase meals. It’s a great way to grab a bite\, catch up with friends\, and take a break from your day in a welcoming space. \n  \nCheck out this week’s menu! \n 
URL:https://hillel.harvard.edu/event/lunch/
LOCATION:MA
CATEGORIES:Meals
ATTACH;FMTTYPE=image/jpeg:https://hillel.harvard.edu/wp-content/uploads/2025/10/hh-dinner.jpg
END:VEVENT
BEGIN:VEVENT
DTSTART;TZID=America/New_York:20270304T170000
DTEND;TZID=America/New_York:20270304T193000
DTSTAMP:20260420T004501
CREATED:20260304T180230Z
LAST-MODIFIED:20260401T141244Z
UID:10017184-1804179600-1804188600@hillel.harvard.edu
SUMMARY:Dinner
DESCRIPTION:Join us for dinner Saturday through Thursday at Harvard Hillel! Undergraduate students on the meal plan can swipe in; graduate students and community members are welcome to purchase meals. On Wednesdays\, graduate students can enjoy Cheap Eats—a full dinner for just $5. Come for the food\, stay for the community. \n  \nCheck out this week’s menu! \n 
URL:https://hillel.harvard.edu/event/dinner/2027-03-04/
LOCATION:Harvard Hillel\, MA
CATEGORIES:Meals
ATTACH;FMTTYPE=image/jpeg:https://hillel.harvard.edu/wp-content/uploads/2025/10/hillel_faculty_dinner_112.jpg
END:VEVENT
BEGIN:VEVENT
DTSTART;TZID=America/New_York:20270304T180000
DTEND;TZID=America/New_York:20270304T193000
DTSTAMP:20260420T004501
CREATED:20260126T220700Z
LAST-MODIFIED:20260331T200635Z
UID:10011105-1804183200-1804188600@hillel.harvard.edu
SUMMARY:Shulchan Ivrit\, Hebrew Table
DESCRIPTION:A welcoming\, low pressure space for practicing spoken Hebrew at all levels\, grounded in conversation\, shared meals\, and meaningful community building.
URL:https://hillel.harvard.edu/event/shulchan-ivrit-dinner-session-2/2027-03-04/
LOCATION:Harvard Hillel\, MA
CATEGORIES:Meals,Programs
ATTACH;FMTTYPE=image/png:https://hillel.harvard.edu/wp-content/uploads/2026/02/Shulhan-Ivrit-FINAL-1080-x-1080-px.png
ORGANIZER;CN="Mahran Yosef":MAILTO:mahran@hillel.harvard.edu
END:VEVENT
BEGIN:VEVENT
DTSTART;TZID=America/New_York:20270305T072500
DTEND;TZID=America/New_York:20270305T080000
DTSTAMP:20260420T004501
CREATED:20251017T194723Z
LAST-MODIFIED:20260331T194620Z
UID:10013800-1804231500-1804233600@hillel.harvard.edu
SUMMARY:Orthodox Weekday Shacharis
DESCRIPTION:Start your day with Orthodox weekday morning services. Join us for Shacharis each weekday morning to connect with tradition\, community\, and prayer before diving into your day. All are welcome\, whether you’re looking for a daily minyan or just want to pop in.
URL:https://hillel.harvard.edu/event/orthodox-weekday-shacharis-twf/2027-03-05/
LOCATION:Harvard Hillel\, MA
CATEGORIES:Minyanim
ATTACH;FMTTYPE=image/jpeg:https://hillel.harvard.edu/wp-content/uploads/2025/10/IMG-20241121-WA0030.jpg
ORGANIZER;CN="Rachel Eilbaum":MAILTO:rachel@hillel.harvard.edu
END:VEVENT
BEGIN:VEVENT
DTSTART;TZID=America/New_York:20270305T090000
DTEND;TZID=America/New_York:20270305T100000
DTSTAMP:20260420T004501
CREATED:20260122T194952Z
LAST-MODIFIED:20260331T195759Z
UID:10009330-1804237200-1804240800@hillel.harvard.edu
SUMMARY:Oyntology
DESCRIPTION:Over noshes\, we’ll bring questions from our lives (interpersonal\, spiritual\, or intellectual) and think through them using Jewish and non-Jewish texts that offer multiple ways of considering what’s at stake.
URL:https://hillel.harvard.edu/event/oyntology/2027-03-05/
LOCATION:Harvard Hillel\, MA
CATEGORIES:Programs
ATTACH;FMTTYPE=image/png:https://hillel.harvard.edu/wp-content/uploads/2026/01/Orange-blue-cute-illustration-Reading-Club-Logo-.png
END:VEVENT
BEGIN:VEVENT
DTSTART;TZID=America/New_York:20270305T113000
DTEND;TZID=America/New_York:20270305T140000
DTSTAMP:20260420T004501
CREATED:20260304T180313Z
LAST-MODIFIED:20260306T193423Z
UID:10015585-1804246200-1804255200@hillel.harvard.edu
SUMMARY:Lunch
DESCRIPTION:Join us for lunch Sunday through Friday at Harvard Hillel! Undergraduate students on the meal plan can swipe in; graduate students and community members are welcome to purchase meals. It’s a great way to grab a bite\, catch up with friends\, and take a break from your day in a welcoming space. \n  \nCheck out this week’s menu! \n 
URL:https://hillel.harvard.edu/event/lunch/
LOCATION:MA
CATEGORIES:Meals
ATTACH;FMTTYPE=image/jpeg:https://hillel.harvard.edu/wp-content/uploads/2025/10/hh-dinner.jpg
END:VEVENT
BEGIN:VEVENT
DTSTART;TZID=America/New_York:20270305T180000
DTEND;TZID=America/New_York:20270305T190000
DTSTAMP:20260420T004501
CREATED:20260122T195740Z
LAST-MODIFIED:20260331T195845Z
UID:10009862-1804269600-1804273200@hillel.harvard.edu
SUMMARY:Reform Shabbat Services
DESCRIPTION:Join us for a warm\, musical\, and reflective start to Shabbat. Reform services blend traditional liturgy with contemporary melodies and English readings\, creating space for meaningful prayer accessible to all—whether you grew up attending services or are exploring Jewish practice for the first time. Led by Reform Rabbinic Advisor Monica Steiner\, our community welcomes Jews of all backgrounds. Come as you are.
URL:https://hillel.harvard.edu/event/reform-shabbat-services/2027-03-05/
LOCATION:MA
CATEGORIES:Minyanim
ATTACH;FMTTYPE=image/jpeg:https://hillel.harvard.edu/wp-content/uploads/2026/01/istock-835342500-1527701883.jpg
END:VEVENT
BEGIN:VEVENT
DTSTART;TZID=America/New_York:20270305T180000
DTEND;TZID=America/New_York:20270305T190000
DTSTAMP:20260420T004501
CREATED:20260126T223418Z
LAST-MODIFIED:20260331T195925Z
UID:10013005-1804269600-1804273200@hillel.harvard.edu
SUMMARY:SHEM Shabbat Services
DESCRIPTION:Join our Student Harvard Egal Minyan for Shabbat services on Friday evenings. Experience a participatory\, egalitarian service where students lead prayers\, read from the Torah\, and create a meaningful Shabbat experience together. Whether you’re familiar with egalitarian practice or just exploring\, come sing\, pray\, and welcome Shabbat with community.
URL:https://hillel.harvard.edu/event/shem-shabbat-services/2027-03-05/
LOCATION:Harvard Hillel\, MA
CATEGORIES:Minyanim
ATTACH;FMTTYPE=image/webp:https://hillel.harvard.edu/wp-content/uploads/2025/10/star-of-david-1080x675-1.webp
ORGANIZER;CN="Talia Young":MAILTO:talia@hillel.harvard.edu
END:VEVENT
BEGIN:VEVENT
DTSTART;TZID=America/New_York:20270305T184000
DTEND;TZID=America/New_York:20270305T194000
DTSTAMP:20260420T004501
CREATED:20260331T202306Z
LAST-MODIFIED:20260331T202306Z
UID:10018672-1804272000-1804275600@hillel.harvard.edu
SUMMARY:Orthodox Shabbat Services
DESCRIPTION:Join our Orthodox Student Minyan and Orthodox Minyan for Friday Mincha and Kabbalat Shabbat\, a meaningful opportunity to pray and connect as Shabbat begins.
URL:https://hillel.harvard.edu/event/orthodox-shabbat-services/2027-03-05/
LOCATION:Harvard Hillel\, MA
CATEGORIES:Minyanim
ATTACH;FMTTYPE=image/jpeg:https://hillel.harvard.edu/wp-content/uploads/2026/01/siddur-creative-commons-by-d7a6d791d799-d794d7a8d793d795d7a3-1.jpg
ORGANIZER;CN="Rachel Eilbaum":MAILTO:rachel@hillel.harvard.edu
END:VEVENT
BEGIN:VEVENT
DTSTART;TZID=America/New_York:20270305T190000
DTEND;TZID=America/New_York:20270305T210000
DTSTAMP:20260420T004501
CREATED:20260126T221439Z
LAST-MODIFIED:20260306T192952Z
UID:10012459-1804273200-1804280400@hillel.harvard.edu
SUMMARY:Shabbat Dinner
DESCRIPTION:Join us Friday evenings for Shabbat dinner\, a cornerstone of our community. Share a delicious meal\, welcome the Sabbath with song and blessings\, and connect with fellow students in a warm\, joyful atmosphere. Undergraduate students on the meal plan can swipe in (we’re happy to offer alternative access for Shabbat-observant students)\, and graduate students eat free. All are welcome at our Shabbat table – community members can purchase their meals in advance.
URL:https://hillel.harvard.edu/event/shabbat-dinner/2027-03-05/
LOCATION:Harvard Hillel\, MA
CATEGORIES:Meals
ATTACH;FMTTYPE=image/jpeg:https://hillel.harvard.edu/wp-content/uploads/2025/10/shabbat-dinner.jpg
END:VEVENT
BEGIN:VEVENT
DTSTART;TZID=America/New_York:20270306T091500
DTEND;TZID=America/New_York:20270306T121500
DTSTAMP:20260420T004501
CREATED:20260122T211258Z
LAST-MODIFIED:20260211T164033Z
UID:10010234-1804324500-1804335300@hillel.harvard.edu
SUMMARY:Orthodox Shabbos Shacharis
DESCRIPTION:Join us for Orthodox Shabbat morning services. Shacharis on Shabbos is a time to pause\, pray\, and connect with community—complete with Torah reading and the unhurried rhythm of Shabbat. All are welcome\, whether you’re a regular or just want to experience a Shabbat morning with us.
URL:https://hillel.harvard.edu/event/orthodox-shabbos-shacharis-2/2027-03-06/
LOCATION:Harvard Hillel\, MA
CATEGORIES:Minyanim
ATTACH;FMTTYPE=image/webp:https://hillel.harvard.edu/wp-content/uploads/2026/01/images.webp
END:VEVENT
BEGIN:VEVENT
DTSTART;TZID=America/New_York:20270306T093000
DTEND;TZID=America/New_York:20270306T123000
DTSTAMP:20260420T004501
CREATED:20260227T163413Z
LAST-MODIFIED:20260227T163413Z
UID:10015085-1804325400-1804336200@hillel.harvard.edu
SUMMARY:Worship and Study - Shabbat Services
DESCRIPTION:Worship and Study is a welcoming\, participatory congregation with a deep commitment to Jewish pluralism\, egalitarianism\, and freedom of inquiry. \nShabbat services include: spirited\, musical davening (prayer) grounded in  traditional liturgy; a lively\, wide-ranging Torah discussion; and a convivial Kiddush. We rely on our members to lead us in prayer and teach us Torah\, and we are always seeking new voices to uncover new facets of our tradition. \nFor more information\, visit our website: worshipandstudy.org or follow us on Instagram @worshipandstudy
URL:https://hillel.harvard.edu/event/worship-and-study-shabbat-services-2/2027-03-06/
LOCATION:Harvard Hillel\, MA
CATEGORIES:Minyanim
ORGANIZER;CN="Rabbi Jim Morgan":MAILTO:rabbijim@worshipandstudy.org
END:VEVENT
BEGIN:VEVENT
DTSTART;TZID=America/New_York:20270306T113000
DTEND;TZID=America/New_York:20270306T140000
DTSTAMP:20260420T004501
CREATED:20260126T221506Z
LAST-MODIFIED:20260306T192959Z
UID:10012732-1804332600-1804341600@hillel.harvard.edu
SUMMARY:Shabbat Lunch
DESCRIPTION:Continue the Shabbat spirit on Saturday afternoon with a communal lunch following morning services. Enjoy good food and great conversation as we mark the day of rest together. Undergraduate students on the meal plan can swipe in\, and graduate students eat free. Whether you join us for services or just for the meal\, you’re always welcome – community members can purchase Shabbat meals in advance.
URL:https://hillel.harvard.edu/event/shabbat-lunch/2027-03-06/
LOCATION:Harvard Hillel\, MA
CATEGORIES:Meals
ATTACH;FMTTYPE=image/jpeg:https://hillel.harvard.edu/wp-content/uploads/2025/10/shabbat-dinner.jpg
END:VEVENT
BEGIN:VEVENT
DTSTART;TZID=America/New_York:20270306T170000
DTEND;TZID=America/New_York:20270306T193000
DTSTAMP:20260420T004501
CREATED:20260304T180230Z
LAST-MODIFIED:20260401T141244Z
UID:10017185-1804352400-1804361400@hillel.harvard.edu
SUMMARY:Dinner
DESCRIPTION:Join us for dinner Saturday through Thursday at Harvard Hillel! Undergraduate students on the meal plan can swipe in; graduate students and community members are welcome to purchase meals. On Wednesdays\, graduate students can enjoy Cheap Eats—a full dinner for just $5. Come for the food\, stay for the community. \n  \nCheck out this week’s menu! \n 
URL:https://hillel.harvard.edu/event/dinner/2027-03-06/
LOCATION:Harvard Hillel\, MA
CATEGORIES:Meals
ATTACH;FMTTYPE=image/jpeg:https://hillel.harvard.edu/wp-content/uploads/2025/10/hillel_faculty_dinner_112.jpg
END:VEVENT
BEGIN:VEVENT
DTSTART;TZID=America/New_York:20270307T083000
DTEND;TZID=America/New_York:20270307T093000
DTSTAMP:20260420T004501
CREATED:20251017T200347Z
LAST-MODIFIED:20260211T165424Z
UID:10006330-1804408200-1804411800@hillel.harvard.edu
SUMMARY:Orthodox Sunday Shacharis
DESCRIPTION:Start your day with Orthodox weekday morning services. Join us for Shacharis each weekday morning to connect with tradition\, community\, and prayer before diving into your day. All are welcome\, whether you’re looking for a daily minyan or just want to pop in.
URL:https://hillel.harvard.edu/event/orthodox-sunday-shacharis-sun/2027-03-07/
LOCATION:Harvard Hillel\, MA
CATEGORIES:Minyanim
ATTACH;FMTTYPE=image/jpeg:https://hillel.harvard.edu/wp-content/uploads/2025/10/IMG-20241121-WA0030.jpg
END:VEVENT
END:VCALENDAR