BEGIN:VCALENDAR
VERSION:2.0
PRODID:-//Harvard Hillel - ECPv6.15.20//NONSGML v1.0//EN
CALSCALE:GREGORIAN
METHOD:PUBLISH
X-ORIGINAL-URL:https://hillel.harvard.edu
X-WR-CALDESC:Events for Harvard Hillel
REFRESH-INTERVAL;VALUE=DURATION:PT1H
X-Robots-Tag:noindex
X-PUBLISHED-TTL:PT1H
BEGIN:VTIMEZONE
TZID:America/New_York
BEGIN:DAYLIGHT
TZOFFSETFROM:-0500
TZOFFSETTO:-0400
TZNAME:EDT
DTSTART:20250309T070000
END:DAYLIGHT
BEGIN:STANDARD
TZOFFSETFROM:-0400
TZOFFSETTO:-0500
TZNAME:EST
DTSTART:20251102T060000
END:STANDARD
BEGIN:DAYLIGHT
TZOFFSETFROM:-0500
TZOFFSETTO:-0400
TZNAME:EDT
DTSTART:20260308T070000
END:DAYLIGHT
BEGIN:STANDARD
TZOFFSETFROM:-0400
TZOFFSETTO:-0500
TZNAME:EST
DTSTART:20261101T060000
END:STANDARD
BEGIN:DAYLIGHT
TZOFFSETFROM:-0500
TZOFFSETTO:-0400
TZNAME:EDT
DTSTART:20270314T070000
END:DAYLIGHT
BEGIN:STANDARD
TZOFFSETFROM:-0400
TZOFFSETTO:-0500
TZNAME:EST
DTSTART:20271107T060000
END:STANDARD
END:VTIMEZONE
BEGIN:VEVENT
DTSTART;TZID=America/New_York:20260301T083000
DTEND;TZID=America/New_York:20260301T093000
DTSTAMP:20260424T160331
CREATED:20251017T200347Z
LAST-MODIFIED:20260211T165424Z
UID:10006277-1772353800-1772357400@hillel.harvard.edu
SUMMARY:Orthodox Sunday Shacharis
DESCRIPTION:Start your day with Orthodox weekday morning services. Join us for Shacharis each weekday morning to connect with tradition\, community\, and prayer before diving into your day. All are welcome\, whether you’re looking for a daily minyan or just want to pop in.
URL:https://hillel.harvard.edu/event/orthodox-sunday-shacharis-sun/2026-03-01/
LOCATION:Harvard Hillel\, MA
CATEGORIES:Minyanim
ATTACH;FMTTYPE=image/jpeg:https://hillel.harvard.edu/wp-content/uploads/2025/10/IMG-20241121-WA0030.jpg
END:VEVENT
BEGIN:VEVENT
DTSTART;TZID=America/New_York:20260301T110000
DTEND;TZID=America/New_York:20260301T123000
DTSTAMP:20260424T160331
CREATED:20260227T142938Z
LAST-MODIFIED:20260227T142938Z
UID:10013627-1772362800-1772368200@hillel.harvard.edu
SUMMARY:Purim Bagel Brunch
DESCRIPTION:Celebrate Purim with a classic bagel brunch\, make Mishloach Manot for friends\, and enjoy festive treats!
URL:https://hillel.harvard.edu/event/purim-bagel-brunch/
LOCATION:Harvard Hillel\, MA
CATEGORIES:Meals,Programs
ATTACH;FMTTYPE=image/jpeg:https://hillel.harvard.edu/wp-content/uploads/2026/02/DSC08186-scaled.jpg
ORGANIZER;CN="Rachel Eilbaum":MAILTO:rachel@hillel.harvard.edu
END:VEVENT
BEGIN:VEVENT
DTSTART;TZID=America/New_York:20260301T113000
DTEND;TZID=America/New_York:20260301T140000
DTSTAMP:20260424T160331
CREATED:20260126T150919Z
LAST-MODIFIED:20260304T175938Z
UID:10005503-1772364600-1772373600@hillel.harvard.edu
SUMMARY:Lunch
DESCRIPTION:Join us for lunch Sunday through Friday at Harvard Hillel! Undergraduate students on the meal plan can swipe in; graduate students and community members are welcome to purchase meals. It’s a great way to grab a bite\, catch up with friends\, and take a break from your day in a welcoming space. \n  \nCheck out this week’s menu! \n 
URL:https://hillel.harvard.edu/event/lunch-2/2026-03-01/
CATEGORIES:Meals
ATTACH;FMTTYPE=image/jpeg:https://hillel.harvard.edu/wp-content/uploads/2025/10/hh-dinner.jpg
END:VEVENT
BEGIN:VEVENT
DTSTART;TZID=America/New_York:20260301T170000
DTEND;TZID=America/New_York:20260301T193000
DTSTAMP:20260424T160331
CREATED:20260126T151029Z
LAST-MODIFIED:20260304T180031Z
UID:10005001-1772384400-1772393400@hillel.harvard.edu
SUMMARY:Dinner
DESCRIPTION:Join us for dinner Saturday through Thursday at Harvard Hillel! Undergraduate students on the meal plan can swipe in; graduate students and community members are welcome to purchase meals. On Wednesdays\, graduate students can enjoy Cheap Eats—a full dinner for just $5. Come for the food\, stay for the community. \n  \nCheck out this week’s menu! \n 
URL:https://hillel.harvard.edu/event/dinner-2/2026-03-01/
LOCATION:Harvard Hillel\, MA
CATEGORIES:Meals
ATTACH;FMTTYPE=image/jpeg:https://hillel.harvard.edu/wp-content/uploads/2025/10/hillel_faculty_dinner_112.jpg
END:VEVENT
BEGIN:VEVENT
DTSTART;TZID=America/New_York:20260302T071500
DTEND;TZID=America/New_York:20260302T080000
DTSTAMP:20260424T160331
CREATED:20251017T194351Z
LAST-MODIFIED:20260331T194619Z
UID:10014424-1772435700-1772438400@hillel.harvard.edu
SUMMARY:Orthodox Weekday Shacharis
DESCRIPTION:Start your day with Orthodox weekday morning services. Join us for Shacharis each weekday morning to connect with tradition\, community\, and prayer before diving into your day. All are welcome\, whether you’re looking for a daily minyan or just want to pop in.
URL:https://hillel.harvard.edu/event/orthodox-weekday-shacharis-mt/2026-03-02/
LOCATION:Harvard Hillel\, MA
CATEGORIES:Minyanim
ATTACH;FMTTYPE=image/jpeg:https://hillel.harvard.edu/wp-content/uploads/2025/10/IMG-20241121-WA0030.jpg
END:VEVENT
BEGIN:VEVENT
DTSTART;TZID=America/New_York:20260302T113000
DTEND;TZID=America/New_York:20260302T140000
DTSTAMP:20260424T160331
CREATED:20260126T150919Z
LAST-MODIFIED:20260304T175938Z
UID:10000116-1772451000-1772460000@hillel.harvard.edu
SUMMARY:Lunch
DESCRIPTION:Join us for lunch Sunday through Friday at Harvard Hillel! Undergraduate students on the meal plan can swipe in; graduate students and community members are welcome to purchase meals. It’s a great way to grab a bite\, catch up with friends\, and take a break from your day in a welcoming space. \n  \nCheck out this week’s menu! \n 
URL:https://hillel.harvard.edu/event/lunch-2/2026-03-02/
CATEGORIES:Meals
ATTACH;FMTTYPE=image/jpeg:https://hillel.harvard.edu/wp-content/uploads/2025/10/hh-dinner.jpg
END:VEVENT
BEGIN:VEVENT
DTSTART;TZID=America/New_York:20260302T120000
DTEND;TZID=America/New_York:20260302T130000
DTSTAMP:20260424T160331
CREATED:20260126T220523Z
LAST-MODIFIED:20260306T193624Z
UID:10010512-1772452800-1772456400@hillel.harvard.edu
SUMMARY:Shulchan Ivrit\, Hebrew Table
DESCRIPTION:A welcoming\, low pressure space for practicing spoken Hebrew at all levels\, grounded in conversation\, shared meals\, and meaningful community building.
URL:https://hillel.harvard.edu/event/shulchan-ivrit-lunch-session/2026-03-02/
LOCATION:Harvard Hillel\, MA
CATEGORIES:Meals,Programs
ATTACH;FMTTYPE=image/png:https://hillel.harvard.edu/wp-content/uploads/2026/02/Shulhan-Ivrit-FINAL-1080-x-1080-px.png
ORGANIZER;CN="Mahran Yosef":MAILTO:mahran@hillel.harvard.edu
END:VEVENT
BEGIN:VEVENT
DTSTART;TZID=America/New_York:20260302T170000
DTEND;TZID=America/New_York:20260302T193000
DTSTAMP:20260424T160331
CREATED:20260126T151029Z
LAST-MODIFIED:20260304T180031Z
UID:10001421-1772470800-1772479800@hillel.harvard.edu
SUMMARY:Dinner
DESCRIPTION:Join us for dinner Saturday through Thursday at Harvard Hillel! Undergraduate students on the meal plan can swipe in; graduate students and community members are welcome to purchase meals. On Wednesdays\, graduate students can enjoy Cheap Eats—a full dinner for just $5. Come for the food\, stay for the community. \n  \nCheck out this week’s menu! \n 
URL:https://hillel.harvard.edu/event/dinner-2/2026-03-02/
LOCATION:Harvard Hillel\, MA
CATEGORIES:Meals
ATTACH;FMTTYPE=image/jpeg:https://hillel.harvard.edu/wp-content/uploads/2025/10/hillel_faculty_dinner_112.jpg
END:VEVENT
BEGIN:VEVENT
DTSTART;TZID=America/New_York:20260302T180000
DTEND;TZID=America/New_York:20260302T220000
DTSTAMP:20260424T160331
CREATED:20260227T145732Z
LAST-MODIFIED:20260227T145732Z
UID:10014948-1772474400-1772488800@hillel.harvard.edu
SUMMARY:OSM Maariv & Megillah and Purim Celebration
DESCRIPTION:Join OSM for Maariv followed by the Megillah reading\, then stay for breakfast and a festive celebration to kick off the holiday!
URL:https://hillel.harvard.edu/event/osm-maariv-megillah-and-purim-celebration/
LOCATION:Harvard Hillel\, MA
CATEGORIES:Minyanim
ATTACH;FMTTYPE=image/png:https://hillel.harvard.edu/wp-content/uploads/2026/02/Open-House-1350-x-1350-px-1.png
ORGANIZER;CN="Rachel Eilbaum":MAILTO:rachel@hillel.harvard.edu
END:VEVENT
BEGIN:VEVENT
DTSTART;TZID=America/New_York:20260302T181000
DTEND;TZID=America/New_York:20260302T200000
DTSTAMP:20260424T160331
CREATED:20260227T145638Z
LAST-MODIFIED:20260227T145638Z
UID:10014947-1772475000-1772481600@hillel.harvard.edu
SUMMARY:Women's Megillah Reading
DESCRIPTION:Celebrate Purim with a special Megillah reading led by women\, followed by breakfast and festive fun!
URL:https://hillel.harvard.edu/event/womens-megillah-reading/
LOCATION:Harvard Hillel\, MA
CATEGORIES:Minyanim
ATTACH;FMTTYPE=image/png:https://hillel.harvard.edu/wp-content/uploads/2026/02/Open-House-1350-x-1350-px-1.png
ORGANIZER;CN="Rachel Eilbaum":MAILTO:rachel@hillel.harvard.edu
END:VEVENT
BEGIN:VEVENT
DTSTART;TZID=America/New_York:20260302T183000
DTEND;TZID=America/New_York:20260302T203000
DTSTAMP:20260424T160331
CREATED:20260227T145526Z
LAST-MODIFIED:20260227T145526Z
UID:10014946-1772476200-1772483400@hillel.harvard.edu
SUMMARY:Worship & Study and SHEM Maariv & Megillah Reading
DESCRIPTION:Join Worship and Study and SHEM for Maariv and Megillah reading\, followed by a Purim celebration!
URL:https://hillel.harvard.edu/event/worship-study-and-shem-maariv-megillah-reading/
LOCATION:Harvard Hillel\, MA
CATEGORIES:Minyanim
ATTACH;FMTTYPE=image/png:https://hillel.harvard.edu/wp-content/uploads/2026/02/Open-House-1350-x-1350-px-1.png
ORGANIZER;CN="Rachel Eilbaum":MAILTO:rachel@hillel.harvard.edu
END:VEVENT
BEGIN:VEVENT
DTSTART;TZID=America/New_York:20260303T063000
DTEND;TZID=America/New_York:20260303T080000
DTSTAMP:20260424T160331
CREATED:20260227T144336Z
LAST-MODIFIED:20260227T145851Z
UID:10013630-1772519400-1772524800@hillel.harvard.edu
SUMMARY:OSM Purim Early Minyan & Megillah
DESCRIPTION:Start your Purim morning with an early Shacharit and Megillah reading with OSM.
URL:https://hillel.harvard.edu/event/osm-purim-early-minyan-megillah/
LOCATION:Harvard Hillel\, MA
CATEGORIES:Minyanim
ATTACH;FMTTYPE=image/png:https://hillel.harvard.edu/wp-content/uploads/2026/02/Open-House-1350-x-1350-px-1.png
ORGANIZER;CN="Rachel Eilbaum":MAILTO:rachel@hillel.harvard.edu
END:VEVENT
BEGIN:VEVENT
DTSTART;TZID=America/New_York:20260303T100000
DTEND;TZID=America/New_York:20260303T110000
DTSTAMP:20260424T160331
CREATED:20260227T143739Z
LAST-MODIFIED:20260227T145859Z
UID:10013629-1772532000-1772535600@hillel.harvard.edu
SUMMARY:OSM Megillah Reading
DESCRIPTION:Purim Sameach! Stop by for a mid-morning Megillah reading with OSM.
URL:https://hillel.harvard.edu/event/osm-megillah-reading/
LOCATION:Harvard Hillel\, MA
CATEGORIES:Minyanim
ATTACH;FMTTYPE=image/png:https://hillel.harvard.edu/wp-content/uploads/2026/02/Open-House-1350-x-1350-px-1.png
ORGANIZER;CN="Rachel Eilbaum":MAILTO:rachel@hillel.harvard.edu
END:VEVENT
BEGIN:VEVENT
DTSTART;TZID=America/New_York:20260303T113000
DTEND;TZID=America/New_York:20260303T140000
DTSTAMP:20260424T160331
CREATED:20260126T150919Z
LAST-MODIFIED:20260304T175938Z
UID:10000117-1772537400-1772546400@hillel.harvard.edu
SUMMARY:Lunch
DESCRIPTION:Join us for lunch Sunday through Friday at Harvard Hillel! Undergraduate students on the meal plan can swipe in; graduate students and community members are welcome to purchase meals. It’s a great way to grab a bite\, catch up with friends\, and take a break from your day in a welcoming space. \n  \nCheck out this week’s menu! \n 
URL:https://hillel.harvard.edu/event/lunch-2/2026-03-03/
CATEGORIES:Meals
ATTACH;FMTTYPE=image/jpeg:https://hillel.harvard.edu/wp-content/uploads/2025/10/hh-dinner.jpg
END:VEVENT
BEGIN:VEVENT
DTSTART;TZID=America/New_York:20260303T140000
DTEND;TZID=America/New_York:20260303T160000
DTSTAMP:20260424T160331
CREATED:20260122T193916Z
LAST-MODIFIED:20260331T200133Z
UID:10008999-1772546400-1772553600@hillel.harvard.edu
SUMMARY:Smoothies with Uzi
DESCRIPTION:Meet Uzi at Playa Bowls to connect with other students\, hang out with Uzi\, and enjoy a smoothie at Harvard Hillel.
URL:https://hillel.harvard.edu/event/smoothies-with-uzi/2026-03-03/
LOCATION:Playa Bowls\, 71 Mt Auburn St\, Cambridge\, MA\, 02138\, United States
CATEGORIES:Programs
ATTACH;FMTTYPE=image/jpeg:https://hillel.harvard.edu/wp-content/uploads/2026/01/HarvardHillelWelcomeWeek2025_StudentLeadershipRetreat_0085-scaled.jpg
END:VEVENT
BEGIN:VEVENT
DTSTART;TZID=America/New_York:20260303T150000
DTEND;TZID=America/New_York:20260303T190000
DTSTAMP:20260424T160331
CREATED:20260227T143441Z
LAST-MODIFIED:20260227T143441Z
UID:10013628-1772550000-1772564400@hillel.harvard.edu
SUMMARY:Purim Hamentaschen Baking
DESCRIPTION:Join us for a fun hands-on baking session and make delicious hamentaschen to celebrate Purim together!
URL:https://hillel.harvard.edu/event/purim-hamentaschen-baking/
LOCATION:Harvard Hillel\, MA
CATEGORIES:Programs
ATTACH;FMTTYPE=image/png:https://hillel.harvard.edu/wp-content/uploads/2026/02/Open-House-1350-x-1350-px.png
ORGANIZER;CN="Rachel Eilbaum":MAILTO:rachel@hillel.harvard.edu
END:VEVENT
BEGIN:VEVENT
DTSTART;TZID=America/New_York:20260303T170000
DTEND;TZID=America/New_York:20260303T193000
DTSTAMP:20260424T160331
CREATED:20260126T151029Z
LAST-MODIFIED:20260304T180031Z
UID:10001422-1772557200-1772566200@hillel.harvard.edu
SUMMARY:Dinner
DESCRIPTION:Join us for dinner Saturday through Thursday at Harvard Hillel! Undergraduate students on the meal plan can swipe in; graduate students and community members are welcome to purchase meals. On Wednesdays\, graduate students can enjoy Cheap Eats—a full dinner for just $5. Come for the food\, stay for the community. \n  \nCheck out this week’s menu! \n 
URL:https://hillel.harvard.edu/event/dinner-2/2026-03-03/
LOCATION:Harvard Hillel\, MA
CATEGORIES:Meals
ATTACH;FMTTYPE=image/jpeg:https://hillel.harvard.edu/wp-content/uploads/2025/10/hillel_faculty_dinner_112.jpg
END:VEVENT
BEGIN:VEVENT
DTSTART;TZID=America/New_York:20260303T193000
DTEND;TZID=America/New_York:20260303T203000
DTSTAMP:20260424T160331
CREATED:20260126T221055Z
LAST-MODIFIED:20260413T130145Z
UID:10011864-1772566200-1772569800@hillel.harvard.edu
SUMMARY:In Person Grad Hebrew Class
DESCRIPTION:Join our graduate student Hebrew classes designed for all levels\, from absolute beginners to advanced speakers. Build your skills\, practice conversation\, and connect with other grad students in a welcoming\, low-pressure environment. All levels are welcome  — come learn at your pace.
URL:https://hillel.harvard.edu/event/in-person-grad-hebrew-class/2026-03-03/
CATEGORIES:Programs
ATTACH;FMTTYPE=image/png:https://hillel.harvard.edu/wp-content/uploads/2026/01/Virtual-Hebrew-_1_.png
END:VEVENT
BEGIN:VEVENT
DTSTART;TZID=America/New_York:20260304T072500
DTEND;TZID=America/New_York:20260304T080000
DTSTAMP:20260424T160331
CREATED:20251017T194723Z
LAST-MODIFIED:20260331T194620Z
UID:10013643-1772609100-1772611200@hillel.harvard.edu
SUMMARY:Orthodox Weekday Shacharis
DESCRIPTION:Start your day with Orthodox weekday morning services. Join us for Shacharis each weekday morning to connect with tradition\, community\, and prayer before diving into your day. All are welcome\, whether you’re looking for a daily minyan or just want to pop in.
URL:https://hillel.harvard.edu/event/orthodox-weekday-shacharis-twf/2026-03-04/
LOCATION:Harvard Hillel\, MA
CATEGORIES:Minyanim
ATTACH;FMTTYPE=image/jpeg:https://hillel.harvard.edu/wp-content/uploads/2025/10/IMG-20241121-WA0030.jpg
ORGANIZER;CN="Rachel Eilbaum":MAILTO:rachel@hillel.harvard.edu
END:VEVENT
BEGIN:VEVENT
DTSTART;TZID=America/New_York:20260304T113000
DTEND;TZID=America/New_York:20260304T140000
DTSTAMP:20260424T160331
CREATED:20260126T150919Z
LAST-MODIFIED:20260304T175938Z
UID:10000118-1772623800-1772632800@hillel.harvard.edu
SUMMARY:Lunch
DESCRIPTION:Join us for lunch Sunday through Friday at Harvard Hillel! Undergraduate students on the meal plan can swipe in; graduate students and community members are welcome to purchase meals. It’s a great way to grab a bite\, catch up with friends\, and take a break from your day in a welcoming space. \n  \nCheck out this week’s menu! \n 
URL:https://hillel.harvard.edu/event/lunch-2/2026-03-04/
CATEGORIES:Meals
ATTACH;FMTTYPE=image/jpeg:https://hillel.harvard.edu/wp-content/uploads/2025/10/hh-dinner.jpg
END:VEVENT
BEGIN:VEVENT
DTSTART;TZID=America/New_York:20260304T170000
DTEND;TZID=America/New_York:20260304T193000
DTSTAMP:20260424T160331
CREATED:20260126T151029Z
LAST-MODIFIED:20260304T180031Z
UID:10001423-1772643600-1772652600@hillel.harvard.edu
SUMMARY:Dinner
DESCRIPTION:Join us for dinner Saturday through Thursday at Harvard Hillel! Undergraduate students on the meal plan can swipe in; graduate students and community members are welcome to purchase meals. On Wednesdays\, graduate students can enjoy Cheap Eats—a full dinner for just $5. Come for the food\, stay for the community. \n  \nCheck out this week’s menu! \n 
URL:https://hillel.harvard.edu/event/dinner-2/2026-03-04/
LOCATION:Harvard Hillel\, MA
CATEGORIES:Meals
ATTACH;FMTTYPE=image/jpeg:https://hillel.harvard.edu/wp-content/uploads/2025/10/hillel_faculty_dinner_112.jpg
END:VEVENT
BEGIN:VEVENT
DTSTART;TZID=America/New_York:20260304T180000
DTEND;TZID=America/New_York:20260304T193000
DTSTAMP:20260424T160331
CREATED:20260211T154200Z
LAST-MODIFIED:20260417T144220Z
UID:10013249-1772647200-1772652600@hillel.harvard.edu
SUMMARY:Shulchan Aravit\, Arabic Table
DESCRIPTION:An inclusive conversational environment open to all proficiency levels\, offering opportunities to practice spoken Arabic through dialogue\, food\, and social connection.
URL:https://hillel.harvard.edu/event/shulchan-aravit-arabic-table/2026-03-04/
LOCATION:Harvard Hillel\, MA
CATEGORIES:Meals,Programs
ATTACH;FMTTYPE=image/png:https://hillel.harvard.edu/wp-content/uploads/2026/02/Arabic-Table.png
ORGANIZER;CN="Mahran Yosef":MAILTO:mahran@hillel.harvard.edu
END:VEVENT
BEGIN:VEVENT
DTSTART;TZID=America/New_York:20260304T193000
DTEND;TZID=America/New_York:20260304T203000
DTSTAMP:20260424T160331
CREATED:20260126T221016Z
LAST-MODIFIED:20260413T130219Z
UID:10011594-1772652600-1772656200@hillel.harvard.edu
SUMMARY:Virtual Grad Hebrew Class
DESCRIPTION:Join our graduate student Hebrew classes designed for all levels\, from absolute beginners to advanced speakers. Build your skills\, practice conversation\, and connect with other grad students in a welcoming\, low-pressure environment. All levels are welcome — come learn at your pace.
URL:https://hillel.harvard.edu/event/virtual-grad-hebrew-class/2026-03-04/
CATEGORIES:Programs
ATTACH;FMTTYPE=image/png:https://hillel.harvard.edu/wp-content/uploads/2025/11/Virtual-Hebrew.png
END:VEVENT
BEGIN:VEVENT
DTSTART;TZID=America/New_York:20260305T071500
DTEND;TZID=America/New_York:20260305T080000
DTSTAMP:20260424T160331
CREATED:20251017T194351Z
LAST-MODIFIED:20260331T194619Z
UID:10014425-1772694900-1772697600@hillel.harvard.edu
SUMMARY:Orthodox Weekday Shacharis
DESCRIPTION:Start your day with Orthodox weekday morning services. Join us for Shacharis each weekday morning to connect with tradition\, community\, and prayer before diving into your day. All are welcome\, whether you’re looking for a daily minyan or just want to pop in.
URL:https://hillel.harvard.edu/event/orthodox-weekday-shacharis-mt/2026-03-05/
LOCATION:Harvard Hillel\, MA
CATEGORIES:Minyanim
ATTACH;FMTTYPE=image/jpeg:https://hillel.harvard.edu/wp-content/uploads/2025/10/IMG-20241121-WA0030.jpg
END:VEVENT
BEGIN:VEVENT
DTSTART;TZID=America/New_York:20260305T113000
DTEND;TZID=America/New_York:20260305T140000
DTSTAMP:20260424T160331
CREATED:20260126T150919Z
LAST-MODIFIED:20260304T175938Z
UID:10000119-1772710200-1772719200@hillel.harvard.edu
SUMMARY:Lunch
DESCRIPTION:Join us for lunch Sunday through Friday at Harvard Hillel! Undergraduate students on the meal plan can swipe in; graduate students and community members are welcome to purchase meals. It’s a great way to grab a bite\, catch up with friends\, and take a break from your day in a welcoming space. \n  \nCheck out this week’s menu! \n 
URL:https://hillel.harvard.edu/event/lunch-2/2026-03-05/
CATEGORIES:Meals
ATTACH;FMTTYPE=image/jpeg:https://hillel.harvard.edu/wp-content/uploads/2025/10/hh-dinner.jpg
END:VEVENT
BEGIN:VEVENT
DTSTART;TZID=America/New_York:20260305T120000
DTEND;TZID=America/New_York:20260305T135000
DTSTAMP:20260424T160331
CREATED:20260211T153209Z
LAST-MODIFIED:20260306T194110Z
UID:10013231-1772712000-1772718600@hillel.harvard.edu
SUMMARY:Israeli & Jewish Community Lunches @ Longwood
DESCRIPTION:Israeli & Jewish Community Lunches\nJoin us for weekly Israeli and Jewish community lunches in Longwood\, open to students\, trainees\, faculty\, and staff. Enjoy kosher food and connect with the broader Jewish community at Harvard’s medical campus. Harvard University ID required.
URL:https://hillel.harvard.edu/event/israeli-jewish-community-lunches-longwood/2026-03-05/
LOCATION:Vanderbilt Hall: JB Martin Student Lounge\, 107 Avenue Louis Pasteur\, Boston\, MA\, 02115\, United States
CATEGORIES:Meals,Programs
ATTACH;FMTTYPE=image/png:https://hillel.harvard.edu/wp-content/uploads/2026/02/Longwood-Lunches1.png
END:VEVENT
BEGIN:VEVENT
DTSTART;TZID=America/New_York:20260305T170000
DTEND;TZID=America/New_York:20260305T193000
DTSTAMP:20260424T160331
CREATED:20260126T151029Z
LAST-MODIFIED:20260304T180031Z
UID:10001424-1772730000-1772739000@hillel.harvard.edu
SUMMARY:Dinner
DESCRIPTION:Join us for dinner Saturday through Thursday at Harvard Hillel! Undergraduate students on the meal plan can swipe in; graduate students and community members are welcome to purchase meals. On Wednesdays\, graduate students can enjoy Cheap Eats—a full dinner for just $5. Come for the food\, stay for the community. \n  \nCheck out this week’s menu! \n 
URL:https://hillel.harvard.edu/event/dinner-2/2026-03-05/
LOCATION:Harvard Hillel\, MA
CATEGORIES:Meals
ATTACH;FMTTYPE=image/jpeg:https://hillel.harvard.edu/wp-content/uploads/2025/10/hillel_faculty_dinner_112.jpg
END:VEVENT
BEGIN:VEVENT
DTSTART;TZID=America/New_York:20260305T180000
DTEND;TZID=America/New_York:20260305T193000
DTSTAMP:20260424T160331
CREATED:20260126T220700Z
LAST-MODIFIED:20260331T200635Z
UID:10011053-1772733600-1772739000@hillel.harvard.edu
SUMMARY:Shulchan Ivrit\, Hebrew Table
DESCRIPTION:A welcoming\, low pressure space for practicing spoken Hebrew at all levels\, grounded in conversation\, shared meals\, and meaningful community building.
URL:https://hillel.harvard.edu/event/shulchan-ivrit-dinner-session-2/2026-03-05/
LOCATION:Harvard Hillel\, MA
CATEGORIES:Meals,Programs
ATTACH;FMTTYPE=image/png:https://hillel.harvard.edu/wp-content/uploads/2026/02/Shulhan-Ivrit-FINAL-1080-x-1080-px.png
ORGANIZER;CN="Mahran Yosef":MAILTO:mahran@hillel.harvard.edu
END:VEVENT
BEGIN:VEVENT
DTSTART;TZID=America/New_York:20260305T183000
DTEND;TZID=America/New_York:20260305T193000
DTSTAMP:20260424T160331
CREATED:20260211T155050Z
LAST-MODIFIED:20260306T194150Z
UID:10013510-1772735400-1772739000@hillel.harvard.edu
SUMMARY:Kol Yisrael
DESCRIPTION:Kol Yisrael is a 6 week cohort learning experience exploring the big ideas and questions shaping contemporary Israeli discourse. This fellowship invites students to engage with Israel through voices\, stories\, and questions that do not fit neatly into slogans or soundbites. It is a space for thoughtful exploration\, curiosity\, and honest conversation rather than debate. \nRegister today!
URL:https://hillel.harvard.edu/event/kol-yisrael/2026-03-05/
LOCATION:Harvard Hillel\, MA
CATEGORIES:Programs
ATTACH;FMTTYPE=image/jpeg:https://hillel.harvard.edu/wp-content/uploads/2026/02/Kol-Yisrael-Instagram-Post.jpg
ORGANIZER;CN="Mahran Yosef":MAILTO:mahran@hillel.harvard.edu
END:VEVENT
BEGIN:VEVENT
DTSTART;TZID=America/New_York:20260306T072500
DTEND;TZID=America/New_York:20260306T080000
DTSTAMP:20260424T160331
CREATED:20251017T194723Z
LAST-MODIFIED:20260331T194620Z
UID:10013644-1772781900-1772784000@hillel.harvard.edu
SUMMARY:Orthodox Weekday Shacharis
DESCRIPTION:Start your day with Orthodox weekday morning services. Join us for Shacharis each weekday morning to connect with tradition\, community\, and prayer before diving into your day. All are welcome\, whether you’re looking for a daily minyan or just want to pop in.
URL:https://hillel.harvard.edu/event/orthodox-weekday-shacharis-twf/2026-03-06/
LOCATION:Harvard Hillel\, MA
CATEGORIES:Minyanim
ATTACH;FMTTYPE=image/jpeg:https://hillel.harvard.edu/wp-content/uploads/2025/10/IMG-20241121-WA0030.jpg
ORGANIZER;CN="Rachel Eilbaum":MAILTO:rachel@hillel.harvard.edu
END:VEVENT
END:VCALENDAR