BEGIN:VCALENDAR
VERSION:2.0
PRODID:-//Harvard Hillel - ECPv6.15.20//NONSGML v1.0//EN
CALSCALE:GREGORIAN
METHOD:PUBLISH
X-WR-CALNAME:Harvard Hillel
X-ORIGINAL-URL:https://hillel.harvard.edu
X-WR-CALDESC:Events for Harvard Hillel
REFRESH-INTERVAL;VALUE=DURATION:PT1H
X-Robots-Tag:noindex
X-PUBLISHED-TTL:PT1H
BEGIN:VTIMEZONE
TZID:America/New_York
BEGIN:DAYLIGHT
TZOFFSETFROM:-0500
TZOFFSETTO:-0400
TZNAME:EDT
DTSTART:20250309T070000
END:DAYLIGHT
BEGIN:STANDARD
TZOFFSETFROM:-0400
TZOFFSETTO:-0500
TZNAME:EST
DTSTART:20251102T060000
END:STANDARD
BEGIN:DAYLIGHT
TZOFFSETFROM:-0500
TZOFFSETTO:-0400
TZNAME:EDT
DTSTART:20260308T070000
END:DAYLIGHT
BEGIN:STANDARD
TZOFFSETFROM:-0400
TZOFFSETTO:-0500
TZNAME:EST
DTSTART:20261101T060000
END:STANDARD
BEGIN:DAYLIGHT
TZOFFSETFROM:-0500
TZOFFSETTO:-0400
TZNAME:EDT
DTSTART:20270314T070000
END:DAYLIGHT
BEGIN:STANDARD
TZOFFSETFROM:-0400
TZOFFSETTO:-0500
TZNAME:EST
DTSTART:20271107T060000
END:STANDARD
END:VTIMEZONE
BEGIN:VEVENT
DTSTART;TZID=America/New_York:20260227T180000
DTEND;TZID=America/New_York:20260227T210000
DTSTAMP:20260420T101601
CREATED:20260212T174027Z
LAST-MODIFIED:20260212T175241Z
UID:3437-1772215200-1772226000@hillel.harvard.edu
SUMMARY:Shabbat Dinner & Symposium Series: Should There Be Red Lines in Our Pluralistic Societies?
DESCRIPTION:Join us for the first evening in our three-part Shabbat Dinner & Symposium Series\, bringing together Jewish learning\, real conversation\, community\, and excellent food around a Shabbat table at Lehrhaus. \nProfessor Jeannie Suk Gersen leads an exploration of Jewish peoplehood\, pluralism\, academic freedom\, and the boundaries that sustain or strain shared moral frameworks. \nOpen to undergraduate students\, grad students\, and faculty. \n  \nRegister today to secure your spot. \n 
URL:https://hillel.harvard.edu/event/shabbat-dinner-symposium-series-should-there-be-red-lines-in-our-pluralistic-societies/
LOCATION:Lehrhaus\, 425 Washington St\, Somerville\, MA\, 02143\, United States
CATEGORIES:Meals,Programs
ATTACH;FMTTYPE=image/png:https://hillel.harvard.edu/wp-content/uploads/2026/02/Event-Featured-Images-2-scaled.png
ORGANIZER;CN="Rabbi Elisha Gechter":MAILTO:elisha@hillel.harvard.edu
END:VEVENT
END:VCALENDAR