BEGIN:VCALENDAR
VERSION:2.0
PRODID:-//Harvard Hillel - ECPv6.15.20//NONSGML v1.0//EN
CALSCALE:GREGORIAN
METHOD:PUBLISH
X-WR-CALNAME:Harvard Hillel
X-ORIGINAL-URL:https://hillel.harvard.edu
X-WR-CALDESC:Events for Harvard Hillel
REFRESH-INTERVAL;VALUE=DURATION:PT1H
X-Robots-Tag:noindex
X-PUBLISHED-TTL:PT1H
BEGIN:VTIMEZONE
TZID:America/New_York
BEGIN:DAYLIGHT
TZOFFSETFROM:-0500
TZOFFSETTO:-0400
TZNAME:EDT
DTSTART:20250309T070000
END:DAYLIGHT
BEGIN:STANDARD
TZOFFSETFROM:-0400
TZOFFSETTO:-0500
TZNAME:EST
DTSTART:20251102T060000
END:STANDARD
BEGIN:DAYLIGHT
TZOFFSETFROM:-0500
TZOFFSETTO:-0400
TZNAME:EDT
DTSTART:20260308T070000
END:DAYLIGHT
BEGIN:STANDARD
TZOFFSETFROM:-0400
TZOFFSETTO:-0500
TZNAME:EST
DTSTART:20261101T060000
END:STANDARD
BEGIN:DAYLIGHT
TZOFFSETFROM:-0500
TZOFFSETTO:-0400
TZNAME:EDT
DTSTART:20270314T070000
END:DAYLIGHT
BEGIN:STANDARD
TZOFFSETFROM:-0400
TZOFFSETTO:-0500
TZNAME:EST
DTSTART:20271107T060000
END:STANDARD
END:VTIMEZONE
BEGIN:VEVENT
DTSTART;TZID=America/New_York:20260419T083000
DTEND;TZID=America/New_York:20260419T093000
DTSTAMP:20260421T111836
CREATED:20251017T200347Z
LAST-MODIFIED:20260211T165424Z
UID:10006284-1776587400-1776591000@hillel.harvard.edu
SUMMARY:Orthodox Sunday Shacharis
DESCRIPTION:Start your day with Orthodox weekday morning services. Join us for Shacharis each weekday morning to connect with tradition\, community\, and prayer before diving into your day. All are welcome\, whether you’re looking for a daily minyan or just want to pop in.
URL:https://hillel.harvard.edu/event/orthodox-sunday-shacharis-sun/2026-04-19/
LOCATION:Harvard Hillel\, MA
CATEGORIES:Minyanim
ATTACH;FMTTYPE=image/jpeg:https://hillel.harvard.edu/wp-content/uploads/2025/10/IMG-20241121-WA0030.jpg
END:VEVENT
BEGIN:VEVENT
DTSTART;TZID=America/New_York:20260419T110000
DTEND;TZID=America/New_York:20260419T130000
DTSTAMP:20260421T111836
CREATED:20260126T220825Z
LAST-MODIFIED:20260313T150002Z
UID:10011330-1776596400-1776603600@hillel.harvard.edu
SUMMARY:Bagel Brunch
DESCRIPTION:Start your week with Bagel Brunch at Harvard Hillel. We’ve got fresh bagels\, schmear\, and lox- plus a space to catch up with friends or meet new ones. Everyone’s welcome to stop by for good food and good company. Hope to see you there!
URL:https://hillel.harvard.edu/event/bagel-brunch/2026-04-19/
LOCATION:Harvard Hillel\, MA
CATEGORIES:Meals,Programs
ATTACH;FMTTYPE=image/jpeg:https://hillel.harvard.edu/wp-content/uploads/2025/10/Bagel-Brunch.jpeg
ORGANIZER;CN="Elazar Fine":MAILTO:elazar@hillel.harvard.edu
END:VEVENT
BEGIN:VEVENT
DTSTART;TZID=America/New_York:20260419T113000
DTEND;TZID=America/New_York:20260419T140000
DTSTAMP:20260421T111836
CREATED:20260304T180313Z
LAST-MODIFIED:20260306T193423Z
UID:10015356-1776598200-1776607200@hillel.harvard.edu
SUMMARY:Lunch
DESCRIPTION:Join us for lunch Sunday through Friday at Harvard Hillel! Undergraduate students on the meal plan can swipe in; graduate students and community members are welcome to purchase meals. It’s a great way to grab a bite\, catch up with friends\, and take a break from your day in a welcoming space. \n  \nCheck out this week’s menu! \n 
URL:https://hillel.harvard.edu/event/lunch/
CATEGORIES:Meals
ATTACH;FMTTYPE=image/jpeg:https://hillel.harvard.edu/wp-content/uploads/2025/10/hh-dinner.jpg
END:VEVENT
BEGIN:VEVENT
DTSTART;TZID=America/New_York:20260419T170000
DTEND;TZID=America/New_York:20260419T193000
DTSTAMP:20260421T111836
CREATED:20260304T180230Z
LAST-MODIFIED:20260401T141244Z
UID:10016910-1776618000-1776627000@hillel.harvard.edu
SUMMARY:Dinner
DESCRIPTION:Join us for dinner Saturday through Thursday at Harvard Hillel! Undergraduate students on the meal plan can swipe in; graduate students and community members are welcome to purchase meals. On Wednesdays\, graduate students can enjoy Cheap Eats—a full dinner for just $5. Come for the food\, stay for the community. \n  \nCheck out this week’s menu! \n 
URL:https://hillel.harvard.edu/event/dinner/2026-04-19/
LOCATION:Harvard Hillel\, MA
CATEGORIES:Meals
ATTACH;FMTTYPE=image/jpeg:https://hillel.harvard.edu/wp-content/uploads/2025/10/hillel_faculty_dinner_112.jpg
END:VEVENT
BEGIN:VEVENT
DTSTART;TZID=America/New_York:20260420T071500
DTEND;TZID=America/New_York:20260420T080000
DTSTAMP:20260421T111836
CREATED:20251017T194351Z
LAST-MODIFIED:20260331T194619Z
UID:10014438-1776669300-1776672000@hillel.harvard.edu
SUMMARY:Orthodox Weekday Shacharis
DESCRIPTION:Start your day with Orthodox weekday morning services. Join us for Shacharis each weekday morning to connect with tradition\, community\, and prayer before diving into your day. All are welcome\, whether you’re looking for a daily minyan or just want to pop in.
URL:https://hillel.harvard.edu/event/orthodox-weekday-shacharis-mt/2026-04-20/
LOCATION:Harvard Hillel\, MA
CATEGORIES:Minyanim
ATTACH;FMTTYPE=image/jpeg:https://hillel.harvard.edu/wp-content/uploads/2025/10/IMG-20241121-WA0030.jpg
END:VEVENT
BEGIN:VEVENT
DTSTART;TZID=America/New_York:20260420T113000
DTEND;TZID=America/New_York:20260420T140000
DTSTAMP:20260421T111836
CREATED:20260304T180313Z
LAST-MODIFIED:20260306T193423Z
UID:10016632-1776684600-1776693600@hillel.harvard.edu
SUMMARY:Lunch
DESCRIPTION:Join us for lunch Sunday through Friday at Harvard Hillel! Undergraduate students on the meal plan can swipe in; graduate students and community members are welcome to purchase meals. It’s a great way to grab a bite\, catch up with friends\, and take a break from your day in a welcoming space. \n  \nCheck out this week’s menu! \n 
URL:https://hillel.harvard.edu/event/lunch/
CATEGORIES:Meals
ATTACH;FMTTYPE=image/jpeg:https://hillel.harvard.edu/wp-content/uploads/2025/10/hh-dinner.jpg
END:VEVENT
BEGIN:VEVENT
DTSTART;TZID=America/New_York:20260420T120000
DTEND;TZID=America/New_York:20260420T130000
DTSTAMP:20260421T111836
CREATED:20260126T220523Z
LAST-MODIFIED:20260306T193624Z
UID:10010519-1776686400-1776690000@hillel.harvard.edu
SUMMARY:Shulchan Ivrit\, Hebrew Table
DESCRIPTION:A welcoming\, low pressure space for practicing spoken Hebrew at all levels\, grounded in conversation\, shared meals\, and meaningful community building.
URL:https://hillel.harvard.edu/event/shulchan-ivrit-lunch-session/2026-04-20/
LOCATION:Harvard Hillel\, MA
CATEGORIES:Meals,Programs
ATTACH;FMTTYPE=image/png:https://hillel.harvard.edu/wp-content/uploads/2026/02/Shulhan-Ivrit-FINAL-1080-x-1080-px.png
ORGANIZER;CN="Mahran Yosef":MAILTO:mahran@hillel.harvard.edu
END:VEVENT
BEGIN:VEVENT
DTSTART;TZID=America/New_York:20260420T170000
DTEND;TZID=America/New_York:20260420T193000
DTSTAMP:20260421T111836
CREATED:20260304T180230Z
LAST-MODIFIED:20260401T141244Z
UID:10016911-1776704400-1776713400@hillel.harvard.edu
SUMMARY:Dinner
DESCRIPTION:Join us for dinner Saturday through Thursday at Harvard Hillel! Undergraduate students on the meal plan can swipe in; graduate students and community members are welcome to purchase meals. On Wednesdays\, graduate students can enjoy Cheap Eats—a full dinner for just $5. Come for the food\, stay for the community. \n  \nCheck out this week’s menu! \n 
URL:https://hillel.harvard.edu/event/dinner/2026-04-20/
LOCATION:Harvard Hillel\, MA
CATEGORIES:Meals
ATTACH;FMTTYPE=image/jpeg:https://hillel.harvard.edu/wp-content/uploads/2025/10/hillel_faculty_dinner_112.jpg
END:VEVENT
BEGIN:VEVENT
DTSTART;TZID=America/New_York:20260421T072500
DTEND;TZID=America/New_York:20260421T080000
DTSTAMP:20260421T111836
CREATED:20251017T194723Z
LAST-MODIFIED:20260331T194620Z
UID:10013663-1776756300-1776758400@hillel.harvard.edu
SUMMARY:Orthodox Weekday Shacharis
DESCRIPTION:Start your day with Orthodox weekday morning services. Join us for Shacharis each weekday morning to connect with tradition\, community\, and prayer before diving into your day. All are welcome\, whether you’re looking for a daily minyan or just want to pop in.
URL:https://hillel.harvard.edu/event/orthodox-weekday-shacharis-twf/2026-04-21/
LOCATION:Harvard Hillel\, MA
CATEGORIES:Minyanim
ATTACH;FMTTYPE=image/jpeg:https://hillel.harvard.edu/wp-content/uploads/2025/10/IMG-20241121-WA0030.jpg
ORGANIZER;CN="Rachel Eilbaum":MAILTO:rachel@hillel.harvard.edu
END:VEVENT
BEGIN:VEVENT
DTSTART;TZID=America/New_York:20260421T091500
DTEND;TZID=America/New_York:20260421T101500
DTSTAMP:20260421T111836
CREATED:20260421T142209Z
LAST-MODIFIED:20260421T142209Z
UID:10009285-1776762900-1776766500@hillel.harvard.edu
SUMMARY:Oyntology
DESCRIPTION:Over noshes\, we’ll bring questions from our lives (interpersonal\, spiritual\, or intellectual) and think through them using Jewish and non-Jewish texts that offer multiple ways of considering what’s at stake.
URL:https://hillel.harvard.edu/event/oyntology-2/2026-04-21/
LOCATION:Harvard Hillel\, MA
CATEGORIES:Programs
ATTACH;FMTTYPE=image/png:https://hillel.harvard.edu/wp-content/uploads/2026/01/Orange-blue-cute-illustration-Reading-Club-Logo-.png
END:VEVENT
BEGIN:VEVENT
DTSTART;TZID=America/New_York:20260421T113000
DTEND;TZID=America/New_York:20260421T140000
DTSTAMP:20260421T111836
CREATED:20260304T180313Z
LAST-MODIFIED:20260306T193423Z
UID:10015357-1776771000-1776780000@hillel.harvard.edu
SUMMARY:Lunch
DESCRIPTION:Join us for lunch Sunday through Friday at Harvard Hillel! Undergraduate students on the meal plan can swipe in; graduate students and community members are welcome to purchase meals. It’s a great way to grab a bite\, catch up with friends\, and take a break from your day in a welcoming space. \n  \nCheck out this week’s menu! \n 
URL:https://hillel.harvard.edu/event/lunch/
CATEGORIES:Meals
ATTACH;FMTTYPE=image/jpeg:https://hillel.harvard.edu/wp-content/uploads/2025/10/hh-dinner.jpg
END:VEVENT
BEGIN:VEVENT
DTSTART;TZID=America/New_York:20260421T140000
DTEND;TZID=America/New_York:20260421T160000
DTSTAMP:20260421T111836
CREATED:20260122T193916Z
LAST-MODIFIED:20260331T200133Z
UID:10009006-1776780000-1776787200@hillel.harvard.edu
SUMMARY:Smoothies with Uzi
DESCRIPTION:Meet Uzi at Playa Bowls to connect with other students\, hang out with Uzi\, and enjoy a smoothie at Harvard Hillel.
URL:https://hillel.harvard.edu/event/smoothies-with-uzi/2026-04-21/
LOCATION:Playa Bowls\, 71 Mt Auburn St\, Cambridge\, MA\, 02138\, United States
CATEGORIES:Programs
ATTACH;FMTTYPE=image/jpeg:https://hillel.harvard.edu/wp-content/uploads/2026/01/HarvardHillelWelcomeWeek2025_StudentLeadershipRetreat_0085-scaled.jpg
END:VEVENT
BEGIN:VEVENT
DTSTART;TZID=America/New_York:20260421T170000
DTEND;TZID=America/New_York:20260421T193000
DTSTAMP:20260421T111836
CREATED:20260304T180230Z
LAST-MODIFIED:20260401T141244Z
UID:10016912-1776790800-1776799800@hillel.harvard.edu
SUMMARY:Dinner
DESCRIPTION:Join us for dinner Saturday through Thursday at Harvard Hillel! Undergraduate students on the meal plan can swipe in; graduate students and community members are welcome to purchase meals. On Wednesdays\, graduate students can enjoy Cheap Eats—a full dinner for just $5. Come for the food\, stay for the community. \n  \nCheck out this week’s menu! \n 
URL:https://hillel.harvard.edu/event/dinner/2026-04-21/
LOCATION:Harvard Hillel\, MA
CATEGORIES:Meals
ATTACH;FMTTYPE=image/jpeg:https://hillel.harvard.edu/wp-content/uploads/2025/10/hillel_faculty_dinner_112.jpg
END:VEVENT
BEGIN:VEVENT
DTSTART;TZID=America/New_York:20260421T191500
DTEND;TZID=America/New_York:20260421T200000
DTSTAMP:20260421T111836
CREATED:20260416T172412Z
LAST-MODIFIED:20260416T172412Z
UID:10020474-1776798900-1776801600@hillel.harvard.edu
SUMMARY:Yom HaZikaron Commemoration
DESCRIPTION:Join us for a Yom Hazikaron program in partnership with Harvard Chabad\, as we come together to mark Israel’s Memorial Day. This gathering will create space to hear firsthand stories of loss\, remembrance\, and resilience from members of our community\, and to reflect together on what it means to remember in this moment.
URL:https://hillel.harvard.edu/event/yom-hazikaron-commemoration/
LOCATION:Harvard Hillel\, MA
CATEGORIES:Programs
ATTACH;FMTTYPE=image/png:https://hillel.harvard.edu/wp-content/uploads/2026/04/Featured-Images-15.png
ORGANIZER;CN="Rachel Eilbaum":MAILTO:rachel@hillel.harvard.edu
END:VEVENT
BEGIN:VEVENT
DTSTART;TZID=America/New_York:20260422T072500
DTEND;TZID=America/New_York:20260422T080000
DTSTAMP:20260421T111836
CREATED:20251017T194723Z
LAST-MODIFIED:20260331T194620Z
UID:10013664-1776842700-1776844800@hillel.harvard.edu
SUMMARY:Orthodox Weekday Shacharis
DESCRIPTION:Start your day with Orthodox weekday morning services. Join us for Shacharis each weekday morning to connect with tradition\, community\, and prayer before diving into your day. All are welcome\, whether you’re looking for a daily minyan or just want to pop in.
URL:https://hillel.harvard.edu/event/orthodox-weekday-shacharis-twf/2026-04-22/
LOCATION:Harvard Hillel\, MA
CATEGORIES:Minyanim
ATTACH;FMTTYPE=image/jpeg:https://hillel.harvard.edu/wp-content/uploads/2025/10/IMG-20241121-WA0030.jpg
ORGANIZER;CN="Rachel Eilbaum":MAILTO:rachel@hillel.harvard.edu
END:VEVENT
BEGIN:VEVENT
DTSTART;TZID=America/New_York:20260422T113000
DTEND;TZID=America/New_York:20260422T140000
DTSTAMP:20260421T111836
CREATED:20260304T180313Z
LAST-MODIFIED:20260306T193423Z
UID:10015358-1776857400-1776866400@hillel.harvard.edu
SUMMARY:Lunch
DESCRIPTION:Join us for lunch Sunday through Friday at Harvard Hillel! Undergraduate students on the meal plan can swipe in; graduate students and community members are welcome to purchase meals. It’s a great way to grab a bite\, catch up with friends\, and take a break from your day in a welcoming space. \n  \nCheck out this week’s menu! \n 
URL:https://hillel.harvard.edu/event/lunch/
CATEGORIES:Meals
ATTACH;FMTTYPE=image/jpeg:https://hillel.harvard.edu/wp-content/uploads/2025/10/hh-dinner.jpg
END:VEVENT
BEGIN:VEVENT
DTSTART;TZID=America/New_York:20260422T170000
DTEND;TZID=America/New_York:20260422T193000
DTSTAMP:20260421T111836
CREATED:20260304T180230Z
LAST-MODIFIED:20260401T141244Z
UID:10016913-1776877200-1776886200@hillel.harvard.edu
SUMMARY:Dinner
DESCRIPTION:Join us for dinner Saturday through Thursday at Harvard Hillel! Undergraduate students on the meal plan can swipe in; graduate students and community members are welcome to purchase meals. On Wednesdays\, graduate students can enjoy Cheap Eats—a full dinner for just $5. Come for the food\, stay for the community. \n  \nCheck out this week’s menu! \n 
URL:https://hillel.harvard.edu/event/dinner/2026-04-22/
LOCATION:Harvard Hillel\, MA
CATEGORIES:Meals
ATTACH;FMTTYPE=image/jpeg:https://hillel.harvard.edu/wp-content/uploads/2025/10/hillel_faculty_dinner_112.jpg
END:VEVENT
BEGIN:VEVENT
DTSTART;TZID=America/New_York:20260422T170000
DTEND;TZID=America/New_York:20260422T200000
DTSTAMP:20260421T111836
CREATED:20260410T161328Z
LAST-MODIFIED:20260421T150217Z
UID:10020467-1776877200-1776888000@hillel.harvard.edu
SUMMARY:Yom Ha'atzmaut BBQ
DESCRIPTION:Celebrate Yom Ha’atzmaut with Harvard Hillel and Harvard Chabad at our BBQ\, an evening of food\, music\, and festive fun. Join us for great BBQ from The Wandering Que food truck\, along with cotton candy\, popcorn\, a slushi machine\, s’mores\, carnival games\, and a DJ. Come hang out\, celebrate Israeli independence with friends and the broader Harvard community. Open to all Harvard affiliates.
URL:https://hillel.harvard.edu/event/yom-haatzmaut-bbq/
LOCATION:Harvard Chabad\, 38 Banks St\, Cambridge\, MA\, 02138\, United States
CATEGORIES:Programs
ATTACH;FMTTYPE=image/png:https://hillel.harvard.edu/wp-content/uploads/2026/04/Featured-Images-19.png
ORGANIZER;CN="Rachel Eilbaum":MAILTO:rachel@hillel.harvard.edu
END:VEVENT
BEGIN:VEVENT
DTSTART;TZID=America/New_York:20260423T071500
DTEND;TZID=America/New_York:20260423T080000
DTSTAMP:20260421T111836
CREATED:20251017T194351Z
LAST-MODIFIED:20260331T194619Z
UID:10014439-1776928500-1776931200@hillel.harvard.edu
SUMMARY:Orthodox Weekday Shacharis
DESCRIPTION:Start your day with Orthodox weekday morning services. Join us for Shacharis each weekday morning to connect with tradition\, community\, and prayer before diving into your day. All are welcome\, whether you’re looking for a daily minyan or just want to pop in.
URL:https://hillel.harvard.edu/event/orthodox-weekday-shacharis-mt/2026-04-23/
LOCATION:Harvard Hillel\, MA
CATEGORIES:Minyanim
ATTACH;FMTTYPE=image/jpeg:https://hillel.harvard.edu/wp-content/uploads/2025/10/IMG-20241121-WA0030.jpg
END:VEVENT
BEGIN:VEVENT
DTSTART;TZID=America/New_York:20260423T113000
DTEND;TZID=America/New_York:20260423T140000
DTSTAMP:20260421T111836
CREATED:20260304T180313Z
LAST-MODIFIED:20260306T193423Z
UID:10015359-1776943800-1776952800@hillel.harvard.edu
SUMMARY:Lunch
DESCRIPTION:Join us for lunch Sunday through Friday at Harvard Hillel! Undergraduate students on the meal plan can swipe in; graduate students and community members are welcome to purchase meals. It’s a great way to grab a bite\, catch up with friends\, and take a break from your day in a welcoming space. \n  \nCheck out this week’s menu! \n 
URL:https://hillel.harvard.edu/event/lunch/
CATEGORIES:Meals
ATTACH;FMTTYPE=image/jpeg:https://hillel.harvard.edu/wp-content/uploads/2025/10/hh-dinner.jpg
END:VEVENT
BEGIN:VEVENT
DTSTART;TZID=America/New_York:20260423T120000
DTEND;TZID=America/New_York:20260423T135000
DTSTAMP:20260421T111836
CREATED:20260211T153209Z
LAST-MODIFIED:20260306T194110Z
UID:10013236-1776945600-1776952200@hillel.harvard.edu
SUMMARY:Israeli & Jewish Community Lunches @ Longwood
DESCRIPTION:Israeli & Jewish Community Lunches\nJoin us for weekly Israeli and Jewish community lunches in Longwood\, open to students\, trainees\, faculty\, and staff. Enjoy kosher food and connect with the broader Jewish community at Harvard’s medical campus. Harvard University ID required.
URL:https://hillel.harvard.edu/event/israeli-jewish-community-lunches-longwood/2026-04-23/
LOCATION:Vanderbilt Hall: JB Martin Student Lounge\, 107 Avenue Louis Pasteur\, Boston\, MA\, 02115\, United States
CATEGORIES:Meals,Programs
ATTACH;FMTTYPE=image/png:https://hillel.harvard.edu/wp-content/uploads/2026/02/Longwood-Lunches1.png
END:VEVENT
BEGIN:VEVENT
DTSTART;TZID=America/New_York:20260423T170000
DTEND;TZID=America/New_York:20260423T193000
DTSTAMP:20260421T111836
CREATED:20260304T180230Z
LAST-MODIFIED:20260401T141244Z
UID:10016914-1776963600-1776972600@hillel.harvard.edu
SUMMARY:Dinner
DESCRIPTION:Join us for dinner Saturday through Thursday at Harvard Hillel! Undergraduate students on the meal plan can swipe in; graduate students and community members are welcome to purchase meals. On Wednesdays\, graduate students can enjoy Cheap Eats—a full dinner for just $5. Come for the food\, stay for the community. \n  \nCheck out this week’s menu! \n 
URL:https://hillel.harvard.edu/event/dinner/2026-04-23/
LOCATION:Harvard Hillel\, MA
CATEGORIES:Meals
ATTACH;FMTTYPE=image/jpeg:https://hillel.harvard.edu/wp-content/uploads/2025/10/hillel_faculty_dinner_112.jpg
END:VEVENT
BEGIN:VEVENT
DTSTART;TZID=America/New_York:20260423T180000
DTEND;TZID=America/New_York:20260423T193000
DTSTAMP:20260421T111836
CREATED:20260126T220700Z
LAST-MODIFIED:20260331T200635Z
UID:10011060-1776967200-1776972600@hillel.harvard.edu
SUMMARY:Shulchan Ivrit\, Hebrew Table
DESCRIPTION:A welcoming\, low pressure space for practicing spoken Hebrew at all levels\, grounded in conversation\, shared meals\, and meaningful community building.
URL:https://hillel.harvard.edu/event/shulchan-ivrit-dinner-session-2/2026-04-23/
LOCATION:Harvard Hillel\, MA
CATEGORIES:Meals,Programs
ATTACH;FMTTYPE=image/png:https://hillel.harvard.edu/wp-content/uploads/2026/02/Shulhan-Ivrit-FINAL-1080-x-1080-px.png
ORGANIZER;CN="Mahran Yosef":MAILTO:mahran@hillel.harvard.edu
END:VEVENT
BEGIN:VEVENT
DTSTART;TZID=America/New_York:20260424T072500
DTEND;TZID=America/New_York:20260424T080000
DTSTAMP:20260421T111836
CREATED:20251017T194723Z
LAST-MODIFIED:20260331T194620Z
UID:10013665-1777015500-1777017600@hillel.harvard.edu
SUMMARY:Orthodox Weekday Shacharis
DESCRIPTION:Start your day with Orthodox weekday morning services. Join us for Shacharis each weekday morning to connect with tradition\, community\, and prayer before diving into your day. All are welcome\, whether you’re looking for a daily minyan or just want to pop in.
URL:https://hillel.harvard.edu/event/orthodox-weekday-shacharis-twf/2026-04-24/
LOCATION:Harvard Hillel\, MA
CATEGORIES:Minyanim
ATTACH;FMTTYPE=image/jpeg:https://hillel.harvard.edu/wp-content/uploads/2025/10/IMG-20241121-WA0030.jpg
ORGANIZER;CN="Rachel Eilbaum":MAILTO:rachel@hillel.harvard.edu
END:VEVENT
BEGIN:VEVENT
DTSTART;TZID=America/New_York:20260424T113000
DTEND;TZID=America/New_York:20260424T140000
DTSTAMP:20260421T111836
CREATED:20260304T180313Z
LAST-MODIFIED:20260306T193423Z
UID:10015360-1777030200-1777039200@hillel.harvard.edu
SUMMARY:Lunch
DESCRIPTION:Join us for lunch Sunday through Friday at Harvard Hillel! Undergraduate students on the meal plan can swipe in; graduate students and community members are welcome to purchase meals. It’s a great way to grab a bite\, catch up with friends\, and take a break from your day in a welcoming space. \n  \nCheck out this week’s menu! \n 
URL:https://hillel.harvard.edu/event/lunch/
CATEGORIES:Meals
ATTACH;FMTTYPE=image/jpeg:https://hillel.harvard.edu/wp-content/uploads/2025/10/hh-dinner.jpg
END:VEVENT
BEGIN:VEVENT
DTSTART;TZID=America/New_York:20260424T180000
DTEND;TZID=America/New_York:20260424T190000
DTSTAMP:20260421T111836
CREATED:20260122T195740Z
LAST-MODIFIED:20260331T195845Z
UID:10009817-1777053600-1777057200@hillel.harvard.edu
SUMMARY:Reform Shabbat Services
DESCRIPTION:Join us for a warm\, musical\, and reflective start to Shabbat. Reform services blend traditional liturgy with contemporary melodies and English readings\, creating space for meaningful prayer accessible to all—whether you grew up attending services or are exploring Jewish practice for the first time. Led by Reform Rabbinic Advisor Monica Steiner\, our community welcomes Jews of all backgrounds. Come as you are.
URL:https://hillel.harvard.edu/event/reform-shabbat-services/2026-04-24/
CATEGORIES:Minyanim
ATTACH;FMTTYPE=image/jpeg:https://hillel.harvard.edu/wp-content/uploads/2026/01/istock-835342500-1527701883.jpg
END:VEVENT
BEGIN:VEVENT
DTSTART;TZID=America/New_York:20260424T180000
DTEND;TZID=America/New_York:20260424T190000
DTSTAMP:20260421T111836
CREATED:20260126T223418Z
LAST-MODIFIED:20260331T195925Z
UID:10012960-1777053600-1777057200@hillel.harvard.edu
SUMMARY:SHEM Shabbat Services
DESCRIPTION:Join our Student Harvard Egal Minyan for Shabbat services on Friday evenings. Experience a participatory\, egalitarian service where students lead prayers\, read from the Torah\, and create a meaningful Shabbat experience together. Whether you’re familiar with egalitarian practice or just exploring\, come sing\, pray\, and welcome Shabbat with community.
URL:https://hillel.harvard.edu/event/shem-shabbat-services/2026-04-24/
LOCATION:Harvard Hillel\, MA
CATEGORIES:Minyanim
ATTACH;FMTTYPE=image/webp:https://hillel.harvard.edu/wp-content/uploads/2025/10/star-of-david-1080x675-1.webp
ORGANIZER;CN="Talia Young":MAILTO:talia@hillel.harvard.edu
END:VEVENT
BEGIN:VEVENT
DTSTART;TZID=America/New_York:20260424T184000
DTEND;TZID=America/New_York:20260424T194000
DTSTAMP:20260421T111836
CREATED:20260331T202306Z
LAST-MODIFIED:20260331T202306Z
UID:10018627-1777056000-1777059600@hillel.harvard.edu
SUMMARY:Orthodox Shabbat Services
DESCRIPTION:Join our Orthodox Student Minyan and Orthodox Minyan for Friday Mincha and Kabbalat Shabbat\, a meaningful opportunity to pray and connect as Shabbat begins.
URL:https://hillel.harvard.edu/event/orthodox-shabbat-services/2026-04-24/
LOCATION:Harvard Hillel\, MA
CATEGORIES:Minyanim
ATTACH;FMTTYPE=image/jpeg:https://hillel.harvard.edu/wp-content/uploads/2026/01/siddur-creative-commons-by-d7a6d791d799-d794d7a8d793d795d7a3-1.jpg
ORGANIZER;CN="Rachel Eilbaum":MAILTO:rachel@hillel.harvard.edu
END:VEVENT
BEGIN:VEVENT
DTSTART;TZID=America/New_York:20260424T190000
DTEND;TZID=America/New_York:20260424T210000
DTSTAMP:20260421T111836
CREATED:20260126T221439Z
LAST-MODIFIED:20260306T192952Z
UID:10012414-1777057200-1777064400@hillel.harvard.edu
SUMMARY:Shabbat Dinner
DESCRIPTION:Join us Friday evenings for Shabbat dinner\, a cornerstone of our community. Share a delicious meal\, welcome the Sabbath with song and blessings\, and connect with fellow students in a warm\, joyful atmosphere. Undergraduate students on the meal plan can swipe in (we’re happy to offer alternative access for Shabbat-observant students)\, and graduate students eat free. All are welcome at our Shabbat table – community members can purchase their meals in advance.
URL:https://hillel.harvard.edu/event/shabbat-dinner/2026-04-24/
LOCATION:Harvard Hillel\, MA
CATEGORIES:Meals
ATTACH;FMTTYPE=image/jpeg:https://hillel.harvard.edu/wp-content/uploads/2025/10/shabbat-dinner.jpg
END:VEVENT
BEGIN:VEVENT
DTSTART;TZID=America/New_York:20260424T193000
DTEND;TZID=America/New_York:20260424T213000
DTSTAMP:20260421T111836
CREATED:20260212T175538Z
LAST-MODIFIED:20260416T170649Z
UID:10013621-1777059000-1777066200@hillel.harvard.edu
SUMMARY:Shabbat Dinner & Symposium Series: Pessimism & Hope — How Do We Sustain Meaning?
DESCRIPTION:We’re excited to host the final of our three-part Shabbat Dinner & Symposium Series on Friday\, April 24th. This will be the culmination of our intimate evenings that bring together conversation\, community\, and excellent food. Around a Shabbat table\, we’re centering a big question that feels both urgent and enduring: Pessimism & Hope — How Do We Sustain Meaning? With Professor Rebecca Goldstein. The conversation will revolve around meaning\, resilience\, and the human need to matter in fractured times. \nThe dinners are open to students and faculty\, and have combined the warmth of a shared meal with the curiosity of a seminar and the depth of Jewish text study. Participants from the first two have left the evening feeling part of a vibrant Jewish community that is intellectually alive and spiritually grounded. \nOpen to undergraduate students\, grad students\, and faculty. Register today to secure your spot. \n\n\n\n\n\n\n\n\n\n  \nRegister today to secure your spot. \n 
URL:https://hillel.harvard.edu/event/shabbat-dinner-symposium-series-pessimism-hope-how-do-we-sustain-meaning/
LOCATION:TBD
CATEGORIES:Meals,Programs
ATTACH;FMTTYPE=image/png:https://hillel.harvard.edu/wp-content/uploads/2026/02/Event-Featured-Images-2-scaled.png
ORGANIZER;CN="Rabbi Elisha Gechter":MAILTO:elisha@hillel.harvard.edu
END:VEVENT
END:VCALENDAR